Workbook

Sheet Kullanım kılavuzu
A1: Araç kiralama rezervasyon tablosu
A3: 1 | B3: Her aracı Araçlar sayfasına yazın: plakası, adı, sınıfı ve günlük ücreti. Rezervasyonlar araca plakasıyla bağlanır; bu yüzden her plaka benzersiz olmalıdır.
A4: 2 | B4: Her rezervasyonu Rezervasyonlar sayfasında ayrı bir satıra ekleyin. Listeden plakayı seçin, ardından çıkış ve dönüş tarihini ve saatini girin.
A5: 3 | B5: Gün sayısı, günlük ücret ve toplam kendiliğinden dolar. Günlük ücret Araçlar sayfasından gelir; özel bir ücret uygulamak için üzerine yazın.
A6: 4 | B6: Araç çıkarken ve dönerken sayaç değerini girin. Yapılan mesafe sizin için hesaplanır.
A7: 5 | B7: Çakışma kontrolü sütunu, aynı araç için başka bir rezervasyon bununla çakıştığında “Çift rezervasyon” yazar. İptal edilen rezervasyonlar dikkate alınmaz.
A8: 6 | B8: Takvim sayfası her araç için bir satır, her gün için bir sütun gösterir. 1, aracın rezerve olduğunu gösterir; 2 veya üzeri kırmızıya döner ve aracın o gün iki kez rezerve edildiği anlamına gelir. Takvimi kaydırmak için ilk günü değiştirin.
A9: 7 | B9: B003 ve B001 rezervasyonları, uyarıyı göstermek için bilerek çakışıyor. Başlamadan önce örnek satırları silin.
A10: 8 | B10: Tabloyu ortak tek bir yerde tutun. Bir rezervasyon listesinin iki kopyası, aynı aracı iki kez vaat etmek için iki fırsat demektir.
A12: Şablon: Odobase — odobase.com

Sheet Araçlar
A1: Plaka | B1: Araç | C1: Sınıf | D1: Günlük ücret | E1: Durum | F1: Notlar
A2: ABC-123 | B2: Kompakt otomobil (örnek) | C2: Ekonomi | D2: 45 | E2: Müsait
A3: DEF-456 | B3: Station wagon (örnek) | C3: Standart | D3: 55 | E3: Müsait
A4: XYZ-789 | B4: SUV (örnek) | C4: SUV | D4: 70 | E4: Bakımda | F4: Fren kontrolü

Sheet Rezervasyonlar
A1: Rezervasyon no. | B1: Müşteri | C1: Telefon | D1: Araç (plaka) | E1: Çıkış: tarih ve saat | F1: Dönüş: tarih ve saat | G1: Çıkışta sayaç değeri | H1: Dönüşte sayaç değeri | I1: Yapılan mesafe | J1: Gün | K1: Günlük ücret | L1: Toplam | M1: Durum | N1: Çakışma kontrolü
A2: B001 | B2: Müşteri A (örnek) | C2: +00 000 000 001 | D2: ABC-123 | E2: 46328.375 | F2: 46331.375 | G2: 12000 | H2: 12450 | I2: =IF(OR(G2="",H2=""),"",H2-G2) | J2: =IF(OR(E2="",F2=""),"",MAX(1,ROUNDUP(ROUND((F2-E2)*24,2)/24,0))) | K2: =IF(D2="","",IFERROR(INDEX('Araçlar'!$D$2:$D$101,MATCH(D2,'Araçlar'!$A$2:$A$101,0)),"")) | L2: =IF(OR(J2="",K2=""),"",J2*K2) | M2: İade edildi | N2: =IF(OR(D2="",E2="",F2="",M2="İptal edildi"),"",IF(COUNTIFS($D$2:$D$301,D2,$E$2:$E$301,"<"&F2,$F$2:$F$301,">"&E2,$M$2:$M$301,"<>İptal edildi")>1,"Çift rezervasyon","Tamam"))
A3: B002 | B3: Müşteri B (örnek) | C3: +00 000 000 002 | D3: DEF-456 | E3: 46329.417 | F3: 46332.417 | G3: 30210 | I3: =IF(OR(G3="",H3=""),"",H3-G3) | J3: =IF(OR(E3="",F3=""),"",MAX(1,ROUNDUP(ROUND((F3-E3)*24,2)/24,0))) | K3: =IF(D3="","",IFERROR(INDEX('Araçlar'!$D$2:$D$101,MATCH(D3,'Araçlar'!$A$2:$A$101,0)),"")) | L3: =IF(OR(J3="",K3=""),"",J3*K3) | M3: Kirada | N3: =IF(OR(D3="",E3="",F3="",M3="İptal edildi"),"",IF(COUNTIFS($D$2:$D$301,D3,$E$2:$E$301,"<"&F3,$F$2:$F$301,">"&E3,$M$2:$M$301,"<>İptal edildi")>1,"Çift rezervasyon","Tamam"))
A4: B003 | B4: Müşteri C (örnek) | C4: +00 000 000 003 | D4: ABC-123 | E4: 46330.5 | F4: 46333.5 | I4: =IF(OR(G4="",H4=""),"",H4-G4) | J4: =IF(OR(E4="",F4=""),"",MAX(1,ROUNDUP(ROUND((F4-E4)*24,2)/24,0))) | K4: =IF(D4="","",IFERROR(INDEX('Araçlar'!$D$2:$D$101,MATCH(D4,'Araçlar'!$A$2:$A$101,0)),"")) | L4: =IF(OR(J4="",K4=""),"",J4*K4) | M4: Rezerve | N4: =IF(OR(D4="",E4="",F4="",M4="İptal edildi"),"",IF(COUNTIFS($D$2:$D$301,D4,$E$2:$E$301,"<"&F4,$F$2:$F$301,">"&E4,$M$2:$M$301,"<>İptal edildi")>1,"Çift rezervasyon","Tamam"))
A5: B004 | B5: Müşteri D (örnek) | C5: +00 000 000 004 | D5: XYZ-789 | E5: 46334.333 | F5: 46336.333 | I5: =IF(OR(G5="",H5=""),"",H5-G5) | J5: =IF(OR(E5="",F5=""),"",MAX(1,ROUNDUP(ROUND((F5-E5)*24,2)/24,0))) | K5: =IF(D5="","",IFERROR(INDEX('Araçlar'!$D$2:$D$101,MATCH(D5,'Araçlar'!$A$2:$A$101,0)),"")) | L5: =IF(OR(J5="",K5=""),"",J5*K5) | M5: Rezerve | N5: =IF(OR(D5="",E5="",F5="",M5="İptal edildi"),"",IF(COUNTIFS($D$2:$D$301,D5,$E$2:$E$301,"<"&F5,$F$2:$F$301,">"&E5,$M$2:$M$301,"<>İptal edildi")>1,"Çift rezervasyon","Tamam"))
I6: =IF(OR(G6="",H6=""),"",H6-G6) | J6: =IF(OR(E6="",F6=""),"",MAX(1,ROUNDUP(ROUND((F6-E6)*24,2)/24,0))) | K6: =IF(D6="","",IFERROR(INDEX('Araçlar'!$D$2:$D$101,MATCH(D6,'Araçlar'!$A$2:$A$101,0)),"")) | L6: =IF(OR(J6="",K6=""),"",J6*K6) | N6: =IF(OR(D6="",E6="",F6="",M6="İptal edildi"),"",IF(COUNTIFS($D$2:$D$301,D6,$E$2:$E$301,"<"&F6,$F$2:$F$301,">"&E6,$M$2:$M$301,"<>İptal edildi")>1,"Çift rezervasyon","Tamam"))
I7: =IF(OR(G7="",H7=""),"",H7-G7) | J7: =IF(OR(E7="",F7=""),"",MAX(1,ROUNDUP(ROUND((F7-E7)*24,2)/24,0))) | K7: =IF(D7="","",IFERROR(INDEX('Araçlar'!$D$2:$D$101,MATCH(D7,'Araçlar'!$A$2:$A$101,0)),"")) | L7: =IF(OR(J7="",K7=""),"",J7*K7) | N7: =IF(OR(D7="",E7="",F7="",M7="İptal edildi"),"",IF(COUNTIFS($D$2:$D$301,D7,$E$2:$E$301,"<"&F7,$F$2:$F$301,">"&E7,$M$2:$M$301,"<>İptal edildi")>1,"Çift rezervasyon","Tamam"))
I8: =IF(OR(G8="",H8=""),"",H8-G8) | J8: =IF(OR(E8="",F8=""),"",MAX(1,ROUNDUP(ROUND((F8-E8)*24,2)/24,0))) | K8: =IF(D8="","",IFERROR(INDEX('Araçlar'!$D$2:$D$101,MATCH(D8,'Araçlar'!$A$2:$A$101,0)),"")) | L8: =IF(OR(J8="",K8=""),"",J8*K8) | N8: =IF(OR(D8="",E8="",F8="",M8="İptal edildi"),"",IF(COUNTIFS($D$2:$D$301,D8,$E$2:$E$301,"<"&F8,$F$2:$F$301,">"&E8,$M$2:$M$301,"<>İptal edildi")>1,"Çift rezervasyon","Tamam"))
I9: =IF(OR(G9="",H9=""),"",H9-G9) | J9: =IF(OR(E9="",F9=""),"",MAX(1,ROUNDUP(ROUND((F9-E9)*24,2)/24,0))) | K9: =IF(D9="","",IFERROR(INDEX('Araçlar'!$D$2:$D$101,MATCH(D9,'Araçlar'!$A$2:$A$101,0)),"")) | L9: =IF(OR(J9="",K9=""),"",J9*K9) | N9: =IF(OR(D9="",E9="",F9="",M9="İptal edildi"),"",IF(COUNTIFS($D$2:$D$301,D9,$E$2:$E$301,"<"&F9,$F$2:$F$301,">"&E9,$M$2:$M$301,"<>İptal edildi")>1,"Çift rezervasyon","Tamam"))
I10: =IF(OR(G10="",H10=""),"",H10-G10) | J10: =IF(OR(E10="",F10=""),"",MAX(1,ROUNDUP(ROUND((F10-E10)*24,2)/24,0))) | K10: =IF(D10="","",IFERROR(INDEX('Araçlar'!$D$2:$D$101,MATCH(D10,'Araçlar'!$A$2:$A$101,0)),"")) | L10: =IF(OR(J10="",K10=""),"",J10*K10) | N10: =IF(OR(D10="",E10="",F10="",M10="İptal edildi"),"",IF(COUNTIFS($D$2:$D$301,D10,$E$2:$E$301,"<"&F10,$F$2:$F$301,">"&E10,$M$2:$M$301,"<>İptal edildi")>1,"Çift rezervasyon","Tamam"))
I11: =IF(OR(G11="",H11=""),"",H11-G11) | J11: =IF(OR(E11="",F11=""),"",MAX(1,ROUNDUP(ROUND((F11-E11)*24,2)/24,0))) | K11: =IF(D11="","",IFERROR(INDEX('Araçlar'!$D$2:$D$101,MATCH(D11,'Araçlar'!$A$2:$A$101,0)),"")) | L11: =IF(OR(J11="",K11=""),"",J11*K11) | N11: =IF(OR(D11="",E11="",F11="",M11="İptal edildi"),"",IF(COUNTIFS($D$2:$D$301,D11,$E$2:$E$301,"<"&F11,$F$2:$F$301,">"&E11,$M$2:$M$301,"<>İptal edildi")>1,"Çift rezervasyon","Tamam"))
I12: =IF(OR(G12="",H12=""),"",H12-G12) | J12: =IF(OR(E12="",F12=""),"",MAX(1,ROUNDUP(ROUND((F12-E12)*24,2)/24,0))) | K12: =IF(D12="","",IFERROR(INDEX('Araçlar'!$D$2:$D$101,MATCH(D12,'Araçlar'!$A$2:$A$101,0)),"")) | L12: =IF(OR(J12="",K12=""),"",J12*K12) | N12: =IF(OR(D12="",E12="",F12="",M12="İptal edildi"),"",IF(COUNTIFS($D$2:$D$301,D12,$E$2:$E$301,"<"&F12,$F$2:$F$301,">"&E12,$M$2:$M$301,"<>İptal edildi")>1,"Çift rezervasyon","Tamam"))
I13: =IF(OR(G13="",H13=""),"",H13-G13) | J13: =IF(OR(E13="",F13=""),"",MAX(1,ROUNDUP(ROUND((F13-E13)*24,2)/24,0))) | K13: =IF(D13="","",IFERROR(INDEX('Araçlar'!$D$2:$D$101,MATCH(D13,'Araçlar'!$A$2:$A$101,0)),"")) | L13: =IF(OR(J13="",K13=""),"",J13*K13) | N13: =IF(OR(D13="",E13="",F13="",M13="İptal edildi"),"",IF(COUNTIFS($D$2:$D$301,D13,$E$2:$E$301,"<"&F13,$F$2:$F$301,">"&E13,$M$2:$M$301,"<>İptal edildi")>1,"Çift rezervasyon","Tamam"))
I14: =IF(OR(G14="",H14=""),"",H14-G14) | J14: =IF(OR(E14="",F14=""),"",MAX(1,ROUNDUP(ROUND((F14-E14)*24,2)/24,0))) | K14: =IF(D14="","",IFERROR(INDEX('Araçlar'!$D$2:$D$101,MATCH(D14,'Araçlar'!$A$2:$A$101,0)),"")) | L14: =IF(OR(J14="",K14=""),"",J14*K14) | N14: =IF(OR(D14="",E14="",F14="",M14="İptal edildi"),"",IF(COUNTIFS($D$2:$D$301,D14,$E$2:$E$301,"<"&F14,$F$2:$F$301,">"&E14,$M$2:$M$301,"<>İptal edildi")>1,"Çift rezervasyon","Tamam"))
I15: =IF(OR(G15="",H15=""),"",H15-G15) | J15: =IF(OR(E15="",F15=""),"",MAX(1,ROUNDUP(ROUND((F15-E15)*24,2)/24,0))) | K15: =IF(D15="","",IFERROR(INDEX('Araçlar'!$D$2:$D$101,MATCH(D15,'Araçlar'!$A$2:$A$101,0)),"")) | L15: =IF(OR(J15="",K15=""),"",J15*K15) | N15: =IF(OR(D15="",E15="",F15="",M15="İptal edildi"),"",IF(COUNTIFS($D$2:$D$301,D15,$E$2:$E$301,"<"&F15,$F$2:$F$301,">"&E15,$M$2:$M$301,"<>İptal edildi")>1,"Çift rezervasyon","Tamam"))
I16: =IF(OR(G16="",H16=""),"",H16-G16) | J16: =IF(OR(E16="",F16=""),"",MAX(1,ROUNDUP(ROUND((F16-E16)*24,2)/24,0))) | K16: =IF(D16="","",IFERROR(INDEX('Araçlar'!$D$2:$D$101,MATCH(D16,'Araçlar'!$A$2:$A$101,0)),"")) | L16: =IF(OR(J16="",K16=""),"",J16*K16) | N16: =IF(OR(D16="",E16="",F16="",M16="İptal edildi"),"",IF(COUNTIFS($D$2:$D$301,D16,$E$2:$E$301,"<"&F16,$F$2:$F$301,">"&E16,$M$2:$M$301,"<>İptal edildi")>1,"Çift rezervasyon","Tamam"))
I17: =IF(OR(G17="",H17=""),"",H17-G17) | J17: =IF(OR(E17="",F17=""),"",MAX(1,ROUNDUP(ROUND((F17-E17)*24,2)/24,0))) | K17: =IF(D17="","",IFERROR(INDEX('Araçlar'!$D$2:$D$101,MATCH(D17,'Araçlar'!$A$2:$A$101,0)),"")) | L17: =IF(OR(J17="",K17=""),"",J17*K17) | N17: =IF(OR(D17="",E17="",F17="",M17="İptal edildi"),"",IF(COUNTIFS($D$2:$D$301,D17,$E$2:$E$301,"<"&F17,$F$2:$F$301,">"&E17,$M$2:$M$301,"<>İptal edildi")>1,"Çift rezervasyon","Tamam"))
... I301: =IF(OR(G301="",H301=""),"",H301-G301) | J301: =IF(OR(E301="",F301=""),"",MAX(1,ROUNDUP(ROUND((F301-E301)*24,2)/24,0))) | K301: =IF(D301="","",IFERROR(INDEX('Araçlar'!$D$2:$D$101,MATCH(D301,'Araçlar'!$A$2:$A$101,0)),"")) | L301: =IF(OR(J301="",K301=""),"",J301*K301) | N301: =IF(OR(D301="",E301="",F301="",M301="İptal edildi"),"",IF(COUNTIFS($D$2:$D$301,D301,$E$2:$E$301,"<"&F301,$F$2:$F$301,">"&E301,$M$2:$M$301,"<>İptal edildi")>1,"Çift rezervasyon","Tamam"))

Sheet Takvim
A1: Araç ve güne göre rezervasyonlar
A2: İlk gün | B2: 46327 | C2: 1 = rezerve. 2 veya üzeri (kırmızı) = çift rezervasyon.
A3: Plaka | B3: Araç | C3: =$B$2 | D3: =C3+1 | E3: =D3+1 | F3: =E3+1 | G3: =F3+1 | H3: =G3+1 | I3: =H3+1 | J3: =I3+1 | K3: =J3+1 | ... AG3: =AF3+1
C4: =C3 | D4: =D3 | E4: =E3 | F4: =F3 | G4: =G3 | H4: =H3 | I4: =I3 | J4: =J3 | ... AG4: =AG3
A5: =IF('Araçlar'!A2="","",'Araçlar'!A2) | B5: =IF('Araçlar'!B2="","",'Araçlar'!B2) | C5: =IF($A5="","",COUNTIFS('Rezervasyonlar'!$D$2:$D$301,$A5,'Rezervasyonlar'!$E$2:$E$301,"<"&(C$3+1),'Rezervasyonlar'!$F$2:$F$301,">"&C$3,'Rezervasyonlar'!$M$2:$M$301,"<>İptal edildi")) | D5: =IF($A5="","",COUNTIFS('Rezervasyonlar'!$D$2:$D$301,$A5,'Rezervasyonlar'!$E$2:$E$301,"<"&(D$3+1),'Rezervasyonlar'!$F$2:$F$301,">"&D$3,'Rezervasyonlar'!$M$2:$M$301,"<>İptal edildi")) | E5: =IF($A5="","",COUNTIFS('Rezervasyonlar'!$D$2:$D$301,$A5,'Rezervasyonlar'!$E$2:$E$301,"<"&(E$3+1),'Rezervasyonlar'!$F$2:$F$301,">"&E$3,'Rezervasyonlar'!$M$2:$M$301,"<>İptal edildi")) | F5: =IF($A5="","",COUNTIFS('Rezervasyonlar'!$D$2:$D$301,$A5,'Rezervasyonlar'!$E$2:$E$301,"<"&(F$3+1),'Rezervasyonlar'!$F$2:$F$301,">"&F$3,'Rezervasyonlar'!$M$2:$M$301,"<>İptal edildi")) | G5: =IF($A5="","",COUNTIFS('Rezervasyonlar'!$D$2:$D$301,$A5,'Rezervasyonlar'!$E$2:$E$301,"<"&(G$3+1),'Rezervasyonlar'!$F$2:$F$301,">"&G$3,'Rezervasyonlar'!$M$2:$M$301,"<>İptal edildi")) | H5: =IF($A5="","",COUNTIFS('Rezervasyonlar'!$D$2:$D$301,$A5,'Rezervasyonlar'!$E$2:$E$301,"<"&(H$3+1),'Rezervasyonlar'!$F$2:$F$301,">"&H$3,'Rezervasyonlar'!$M$2:$M$301,"<>İptal edildi")) | I5: =IF($A5="","",COUNTIFS('Rezervasyonlar'!$D$2:$D$301,$A5,'Rezervasyonlar'!$E$2:$E$301,"<"&(I$3+1),'Rezervasyonlar'!$F$2:$F$301,">"&I$3,'Rezervasyonlar'!$M$2:$M$301,"<>İptal edildi")) | J5: =IF($A5="","",COUNTIFS('Rezervasyonlar'!$D$2:$D$301,$A5,'Rezervasyonlar'!$E$2:$E$301,"<"&(J$3+1),'Rezervasyonlar'!$F$2:$F$301,">"&J$3,'Rezervasyonlar'!$M$2:$M$301,"<>İptal edildi")) | ... AG5: =IF($A5="","",COUNTIFS('Rezervasyonlar'!$D$2:$D$301,$A5,'Rezervasyonlar'!$E$2:$E$301,"<"&(AG$3+1),'Rezervasyonlar'!$F$2:$F$301,">"&AG$3,'Rezervasyonlar'!$M$2:$M$301,"<>İptal edildi"))
A6: =IF('Araçlar'!A3="","",'Araçlar'!A3) | B6: =IF('Araçlar'!B3="","",'Araçlar'!B3) | C6: =IF($A6="","",COUNTIFS('Rezervasyonlar'!$D$2:$D$301,$A6,'Rezervasyonlar'!$E$2:$E$301,"<"&(C$3+1),'Rezervasyonlar'!$F$2:$F$301,">"&C$3,'Rezervasyonlar'!$M$2:$M$301,"<>İptal edildi")) | D6: =IF($A6="","",COUNTIFS('Rezervasyonlar'!$D$2:$D$301,$A6,'Rezervasyonlar'!$E$2:$E$301,"<"&(D$3+1),'Rezervasyonlar'!$F$2:$F$301,">"&D$3,'Rezervasyonlar'!$M$2:$M$301,"<>İptal edildi")) | E6: =IF($A6="","",COUNTIFS('Rezervasyonlar'!$D$2:$D$301,$A6,'Rezervasyonlar'!$E$2:$E$301,"<"&(E$3+1),'Rezervasyonlar'!$F$2:$F$301,">"&E$3,'Rezervasyonlar'!$M$2:$M$301,"<>İptal edildi")) | F6: =IF($A6="","",COUNTIFS('Rezervasyonlar'!$D$2:$D$301,$A6,'Rezervasyonlar'!$E$2:$E$301,"<"&(F$3+1),'Rezervasyonlar'!$F$2:$F$301,">"&F$3,'Rezervasyonlar'!$M$2:$M$301,"<>İptal edildi")) | G6: =IF($A6="","",COUNTIFS('Rezervasyonlar'!$D$2:$D$301,$A6,'Rezervasyonlar'!$E$2:$E$301,"<"&(G$3+1),'Rezervasyonlar'!$F$2:$F$301,">"&G$3,'Rezervasyonlar'!$M$2:$M$301,"<>İptal edildi")) | H6: =IF($A6="","",COUNTIFS('Rezervasyonlar'!$D$2:$D$301,$A6,'Rezervasyonlar'!$E$2:$E$301,"<"&(H$3+1),'Rezervasyonlar'!$F$2:$F$301,">"&H$3,'Rezervasyonlar'!$M$2:$M$301,"<>İptal edildi")) | I6: =IF($A6="","",COUNTIFS('Rezervasyonlar'!$D$2:$D$301,$A6,'Rezervasyonlar'!$E$2:$E$301,"<"&(I$3+1),'Rezervasyonlar'!$F$2:$F$301,">"&I$3,'Rezervasyonlar'!$M$2:$M$301,"<>İptal edildi")) | J6: =IF($A6="","",COUNTIFS('Rezervasyonlar'!$D$2:$D$301,$A6,'Rezervasyonlar'!$E$2:$E$301,"<"&(J$3+1),'Rezervasyonlar'!$F$2:$F$301,">"&J$3,'Rezervasyonlar'!$M$2:$M$301,"<>İptal edildi")) | ... AG6: =IF($A6="","",COUNTIFS('Rezervasyonlar'!$D$2:$D$301,$A6,'Rezervasyonlar'!$E$2:$E$301,"<"&(AG$3+1),'Rezervasyonlar'!$F$2:$F$301,">"&AG$3,'Rezervasyonlar'!$M$2:$M$301,"<>İptal edildi"))
A7: =IF('Araçlar'!A4="","",'Araçlar'!A4) | B7: =IF('Araçlar'!B4="","",'Araçlar'!B4) | C7: =IF($A7="","",COUNTIFS('Rezervasyonlar'!$D$2:$D$301,$A7,'Rezervasyonlar'!$E$2:$E$301,"<"&(C$3+1),'Rezervasyonlar'!$F$2:$F$301,">"&C$3,'Rezervasyonlar'!$M$2:$M$301,"<>İptal edildi")) | D7: =IF($A7="","",COUNTIFS('Rezervasyonlar'!$D$2:$D$301,$A7,'Rezervasyonlar'!$E$2:$E$301,"<"&(D$3+1),'Rezervasyonlar'!$F$2:$F$301,">"&D$3,'Rezervasyonlar'!$M$2:$M$301,"<>İptal edildi")) | E7: =IF($A7="","",COUNTIFS('Rezervasyonlar'!$D$2:$D$301,$A7,'Rezervasyonlar'!$E$2:$E$301,"<"&(E$3+1),'Rezervasyonlar'!$F$2:$F$301,">"&E$3,'Rezervasyonlar'!$M$2:$M$301,"<>İptal edildi")) | F7: =IF($A7="","",COUNTIFS('Rezervasyonlar'!$D$2:$D$301,$A7,'Rezervasyonlar'!$E$2:$E$301,"<"&(F$3+1),'Rezervasyonlar'!$F$2:$F$301,">"&F$3,'Rezervasyonlar'!$M$2:$M$301,"<>İptal edildi")) | G7: =IF($A7="","",COUNTIFS('Rezervasyonlar'!$D$2:$D$301,$A7,'Rezervasyonlar'!$E$2:$E$301,"<"&(G$3+1),'Rezervasyonlar'!$F$2:$F$301,">"&G$3,'Rezervasyonlar'!$M$2:$M$301,"<>İptal edildi")) | H7: =IF($A7="","",COUNTIFS('Rezervasyonlar'!$D$2:$D$301,$A7,'Rezervasyonlar'!$E$2:$E$301,"<"&(H$3+1),'Rezervasyonlar'!$F$2:$F$301,">"&H$3,'Rezervasyonlar'!$M$2:$M$301,"<>İptal edildi")) | I7: =IF($A7="","",COUNTIFS('Rezervasyonlar'!$D$2:$D$301,$A7,'Rezervasyonlar'!$E$2:$E$301,"<"&(I$3+1),'Rezervasyonlar'!$F$2:$F$301,">"&I$3,'Rezervasyonlar'!$M$2:$M$301,"<>İptal edildi")) | J7: =IF($A7="","",COUNTIFS('Rezervasyonlar'!$D$2:$D$301,$A7,'Rezervasyonlar'!$E$2:$E$301,"<"&(J$3+1),'Rezervasyonlar'!$F$2:$F$301,">"&J$3,'Rezervasyonlar'!$M$2:$M$301,"<>İptal edildi")) | ... AG7: =IF($A7="","",COUNTIFS('Rezervasyonlar'!$D$2:$D$301,$A7,'Rezervasyonlar'!$E$2:$E$301,"<"&(AG$3+1),'Rezervasyonlar'!$F$2:$F$301,">"&AG$3,'Rezervasyonlar'!$M$2:$M$301,"<>İptal edildi"))
A8: =IF('Araçlar'!A5="","",'Araçlar'!A5) | B8: =IF('Araçlar'!B5="","",'Araçlar'!B5) | C8: =IF($A8="","",COUNTIFS('Rezervasyonlar'!$D$2:$D$301,$A8,'Rezervasyonlar'!$E$2:$E$301,"<"&(C$3+1),'Rezervasyonlar'!$F$2:$F$301,">"&C$3,'Rezervasyonlar'!$M$2:$M$301,"<>İptal edildi")) | D8: =IF($A8="","",COUNTIFS('Rezervasyonlar'!$D$2:$D$301,$A8,'Rezervasyonlar'!$E$2:$E$301,"<"&(D$3+1),'Rezervasyonlar'!$F$2:$F$301,">"&D$3,'Rezervasyonlar'!$M$2:$M$301,"<>İptal edildi")) | E8: =IF($A8="","",COUNTIFS('Rezervasyonlar'!$D$2:$D$301,$A8,'Rezervasyonlar'!$E$2:$E$301,"<"&(E$3+1),'Rezervasyonlar'!$F$2:$F$301,">"&E$3,'Rezervasyonlar'!$M$2:$M$301,"<>İptal edildi")) | F8: =IF($A8="","",COUNTIFS('Rezervasyonlar'!$D$2:$D$301,$A8,'Rezervasyonlar'!$E$2:$E$301,"<"&(F$3+1),'Rezervasyonlar'!$F$2:$F$301,">"&F$3,'Rezervasyonlar'!$M$2:$M$301,"<>İptal edildi")) | G8: =IF($A8="","",COUNTIFS('Rezervasyonlar'!$D$2:$D$301,$A8,'Rezervasyonlar'!$E$2:$E$301,"<"&(G$3+1),'Rezervasyonlar'!$F$2:$F$301,">"&G$3,'Rezervasyonlar'!$M$2:$M$301,"<>İptal edildi")) | H8: =IF($A8="","",COUNTIFS('Rezervasyonlar'!$D$2:$D$301,$A8,'Rezervasyonlar'!$E$2:$E$301,"<"&(H$3+1),'Rezervasyonlar'!$F$2:$F$301,">"&H$3,'Rezervasyonlar'!$M$2:$M$301,"<>İptal edildi")) | I8: =IF($A8="","",COUNTIFS('Rezervasyonlar'!$D$2:$D$301,$A8,'Rezervasyonlar'!$E$2:$E$301,"<"&(I$3+1),'Rezervasyonlar'!$F$2:$F$301,">"&I$3,'Rezervasyonlar'!$M$2:$M$301,"<>İptal edildi")) | J8: =IF($A8="","",COUNTIFS('Rezervasyonlar'!$D$2:$D$301,$A8,'Rezervasyonlar'!$E$2:$E$301,"<"&(J$3+1),'Rezervasyonlar'!$F$2:$F$301,">"&J$3,'Rezervasyonlar'!$M$2:$M$301,"<>İptal edildi")) | ... AG8: =IF($A8="","",COUNTIFS('Rezervasyonlar'!$D$2:$D$301,$A8,'Rezervasyonlar'!$E$2:$E$301,"<"&(AG$3+1),'Rezervasyonlar'!$F$2:$F$301,">"&AG$3,'Rezervasyonlar'!$M$2:$M$301,"<>İptal edildi"))
A9: =IF('Araçlar'!A6="","",'Araçlar'!A6) | B9: =IF('Araçlar'!B6="","",'Araçlar'!B6) | C9: =IF($A9="","",COUNTIFS('Rezervasyonlar'!$D$2:$D$301,$A9,'Rezervasyonlar'!$E$2:$E$301,"<"&(C$3+1),'Rezervasyonlar'!$F$2:$F$301,">"&C$3,'Rezervasyonlar'!$M$2:$M$301,"<>İptal edildi")) | D9: =IF($A9="","",COUNTIFS('Rezervasyonlar'!$D$2:$D$301,$A9,'Rezervasyonlar'!$E$2:$E$301,"<"&(D$3+1),'Rezervasyonlar'!$F$2:$F$301,">"&D$3,'Rezervasyonlar'!$M$2:$M$301,"<>İptal edildi")) | E9: =IF($A9="","",COUNTIFS('Rezervasyonlar'!$D$2:$D$301,$A9,'Rezervasyonlar'!$E$2:$E$301,"<"&(E$3+1),'Rezervasyonlar'!$F$2:$F$301,">"&E$3,'Rezervasyonlar'!$M$2:$M$301,"<>İptal edildi")) | F9: =IF($A9="","",COUNTIFS('Rezervasyonlar'!$D$2:$D$301,$A9,'Rezervasyonlar'!$E$2:$E$301,"<"&(F$3+1),'Rezervasyonlar'!$F$2:$F$301,">"&F$3,'Rezervasyonlar'!$M$2:$M$301,"<>İptal edildi")) | G9: =IF($A9="","",COUNTIFS('Rezervasyonlar'!$D$2:$D$301,$A9,'Rezervasyonlar'!$E$2:$E$301,"<"&(G$3+1),'Rezervasyonlar'!$F$2:$F$301,">"&G$3,'Rezervasyonlar'!$M$2:$M$301,"<>İptal edildi")) | H9: =IF($A9="","",COUNTIFS('Rezervasyonlar'!$D$2:$D$301,$A9,'Rezervasyonlar'!$E$2:$E$301,"<"&(H$3+1),'Rezervasyonlar'!$F$2:$F$301,">"&H$3,'Rezervasyonlar'!$M$2:$M$301,"<>İptal edildi")) | I9: =IF($A9="","",COUNTIFS('Rezervasyonlar'!$D$2:$D$301,$A9,'Rezervasyonlar'!$E$2:$E$301,"<"&(I$3+1),'Rezervasyonlar'!$F$2:$F$301,">"&I$3,'Rezervasyonlar'!$M$2:$M$301,"<>İptal edildi")) | J9: =IF($A9="","",COUNTIFS('Rezervasyonlar'!$D$2:$D$301,$A9,'Rezervasyonlar'!$E$2:$E$301,"<"&(J$3+1),'Rezervasyonlar'!$F$2:$F$301,">"&J$3,'Rezervasyonlar'!$M$2:$M$301,"<>İptal edildi")) | ... AG9: =IF($A9="","",COUNTIFS('Rezervasyonlar'!$D$2:$D$301,$A9,'Rezervasyonlar'!$E$2:$E$301,"<"&(AG$3+1),'Rezervasyonlar'!$F$2:$F$301,">"&AG$3,'Rezervasyonlar'!$M$2:$M$301,"<>İptal edildi"))
A10: =IF('Araçlar'!A7="","",'Araçlar'!A7) | B10: =IF('Araçlar'!B7="","",'Araçlar'!B7) | C10: =IF($A10="","",COUNTIFS('Rezervasyonlar'!$D$2:$D$301,$A10,'Rezervasyonlar'!$E$2:$E$301,"<"&(C$3+1),'Rezervasyonlar'!$F$2:$F$301,">"&C$3,'Rezervasyonlar'!$M$2:$M$301,"<>İptal edildi")) | D10: =IF($A10="","",COUNTIFS('Rezervasyonlar'!$D$2:$D$301,$A10,'Rezervasyonlar'!$E$2:$E$301,"<"&(D$3+1),'Rezervasyonlar'!$F$2:$F$301,">"&D$3,'Rezervasyonlar'!$M$2:$M$301,"<>İptal edildi")) | E10: =IF($A10="","",COUNTIFS('Rezervasyonlar'!$D$2:$D$301,$A10,'Rezervasyonlar'!$E$2:$E$301,"<"&(E$3+1),'Rezervasyonlar'!$F$2:$F$301,">"&E$3,'Rezervasyonlar'!$M$2:$M$301,"<>İptal edildi")) | F10: =IF($A10="","",COUNTIFS('Rezervasyonlar'!$D$2:$D$301,$A10,'Rezervasyonlar'!$E$2:$E$301,"<"&(F$3+1),'Rezervasyonlar'!$F$2:$F$301,">"&F$3,'Rezervasyonlar'!$M$2:$M$301,"<>İptal edildi")) | G10: =IF($A10="","",COUNTIFS('Rezervasyonlar'!$D$2:$D$301,$A10,'Rezervasyonlar'!$E$2:$E$301,"<"&(G$3+1),'Rezervasyonlar'!$F$2:$F$301,">"&G$3,'Rezervasyonlar'!$M$2:$M$301,"<>İptal edildi")) | H10: =IF($A10="","",COUNTIFS('Rezervasyonlar'!$D$2:$D$301,$A10,'Rezervasyonlar'!$E$2:$E$301,"<"&(H$3+1),'Rezervasyonlar'!$F$2:$F$301,">"&H$3,'Rezervasyonlar'!$M$2:$M$301,"<>İptal edildi")) | I10: =IF($A10="","",COUNTIFS('Rezervasyonlar'!$D$2:$D$301,$A10,'Rezervasyonlar'!$E$2:$E$301,"<"&(I$3+1),'Rezervasyonlar'!$F$2:$F$301,">"&I$3,'Rezervasyonlar'!$M$2:$M$301,"<>İptal edildi")) | J10: =IF($A10="","",COUNTIFS('Rezervasyonlar'!$D$2:$D$301,$A10,'Rezervasyonlar'!$E$2:$E$301,"<"&(J$3+1),'Rezervasyonlar'!$F$2:$F$301,">"&J$3,'Rezervasyonlar'!$M$2:$M$301,"<>İptal edildi")) | ... AG10: =IF($A10="","",COUNTIFS('Rezervasyonlar'!$D$2:$D$301,$A10,'Rezervasyonlar'!$E$2:$E$301,"<"&(AG$3+1),'Rezervasyonlar'!$F$2:$F$301,">"&AG$3,'Rezervasyonlar'!$M$2:$M$301,"<>İptal edildi"))
A11: =IF('Araçlar'!A8="","",'Araçlar'!A8) | B11: =IF('Araçlar'!B8="","",'Araçlar'!B8) | C11: =IF($A11="","",COUNTIFS('Rezervasyonlar'!$D$2:$D$301,$A11,'Rezervasyonlar'!$E$2:$E$301,"<"&(C$3+1),'Rezervasyonlar'!$F$2:$F$301,">"&C$3,'Rezervasyonlar'!$M$2:$M$301,"<>İptal edildi")) | D11: =IF($A11="","",COUNTIFS('Rezervasyonlar'!$D$2:$D$301,$A11,'Rezervasyonlar'!$E$2:$E$301,"<"&(D$3+1),'Rezervasyonlar'!$F$2:$F$301,">"&D$3,'Rezervasyonlar'!$M$2:$M$301,"<>İptal edildi")) | E11: =IF($A11="","",COUNTIFS('Rezervasyonlar'!$D$2:$D$301,$A11,'Rezervasyonlar'!$E$2:$E$301,"<"&(E$3+1),'Rezervasyonlar'!$F$2:$F$301,">"&E$3,'Rezervasyonlar'!$M$2:$M$301,"<>İptal edildi")) | F11: =IF($A11="","",COUNTIFS('Rezervasyonlar'!$D$2:$D$301,$A11,'Rezervasyonlar'!$E$2:$E$301,"<"&(F$3+1),'Rezervasyonlar'!$F$2:$F$301,">"&F$3,'Rezervasyonlar'!$M$2:$M$301,"<>İptal edildi")) | G11: =IF($A11="","",COUNTIFS('Rezervasyonlar'!$D$2:$D$301,$A11,'Rezervasyonlar'!$E$2:$E$301,"<"&(G$3+1),'Rezervasyonlar'!$F$2:$F$301,">"&G$3,'Rezervasyonlar'!$M$2:$M$301,"<>İptal edildi")) | H11: =IF($A11="","",COUNTIFS('Rezervasyonlar'!$D$2:$D$301,$A11,'Rezervasyonlar'!$E$2:$E$301,"<"&(H$3+1),'Rezervasyonlar'!$F$2:$F$301,">"&H$3,'Rezervasyonlar'!$M$2:$M$301,"<>İptal edildi")) | I11: =IF($A11="","",COUNTIFS('Rezervasyonlar'!$D$2:$D$301,$A11,'Rezervasyonlar'!$E$2:$E$301,"<"&(I$3+1),'Rezervasyonlar'!$F$2:$F$301,">"&I$3,'Rezervasyonlar'!$M$2:$M$301,"<>İptal edildi")) | J11: =IF($A11="","",COUNTIFS('Rezervasyonlar'!$D$2:$D$301,$A11,'Rezervasyonlar'!$E$2:$E$301,"<"&(J$3+1),'Rezervasyonlar'!$F$2:$F$301,">"&J$3,'Rezervasyonlar'!$M$2:$M$301,"<>İptal edildi")) | ... AG11: =IF($A11="","",COUNTIFS('Rezervasyonlar'!$D$2:$D$301,$A11,'Rezervasyonlar'!$E$2:$E$301,"<"&(AG$3+1),'Rezervasyonlar'!$F$2:$F$301,">"&AG$3,'Rezervasyonlar'!$M$2:$M$301,"<>İptal edildi"))
A12: =IF('Araçlar'!A9="","",'Araçlar'!A9) | B12: =IF('Araçlar'!B9="","",'Araçlar'!B9) | C12: =IF($A12="","",COUNTIFS('Rezervasyonlar'!$D$2:$D$301,$A12,'Rezervasyonlar'!$E$2:$E$301,"<"&(C$3+1),'Rezervasyonlar'!$F$2:$F$301,">"&C$3,'Rezervasyonlar'!$M$2:$M$301,"<>İptal edildi")) | D12: =IF($A12="","",COUNTIFS('Rezervasyonlar'!$D$2:$D$301,$A12,'Rezervasyonlar'!$E$2:$E$301,"<"&(D$3+1),'Rezervasyonlar'!$F$2:$F$301,">"&D$3,'Rezervasyonlar'!$M$2:$M$301,"<>İptal edildi")) | E12: =IF($A12="","",COUNTIFS('Rezervasyonlar'!$D$2:$D$301,$A12,'Rezervasyonlar'!$E$2:$E$301,"<"&(E$3+1),'Rezervasyonlar'!$F$2:$F$301,">"&E$3,'Rezervasyonlar'!$M$2:$M$301,"<>İptal edildi")) | F12: =IF($A12="","",COUNTIFS('Rezervasyonlar'!$D$2:$D$301,$A12,'Rezervasyonlar'!$E$2:$E$301,"<"&(F$3+1),'Rezervasyonlar'!$F$2:$F$301,">"&F$3,'Rezervasyonlar'!$M$2:$M$301,"<>İptal edildi")) | G12: =IF($A12="","",COUNTIFS('Rezervasyonlar'!$D$2:$D$301,$A12,'Rezervasyonlar'!$E$2:$E$301,"<"&(G$3+1),'Rezervasyonlar'!$F$2:$F$301,">"&G$3,'Rezervasyonlar'!$M$2:$M$301,"<>İptal edildi")) | H12: =IF($A12="","",COUNTIFS('Rezervasyonlar'!$D$2:$D$301,$A12,'Rezervasyonlar'!$E$2:$E$301,"<"&(H$3+1),'Rezervasyonlar'!$F$2:$F$301,">"&H$3,'Rezervasyonlar'!$M$2:$M$301,"<>İptal edildi")) | I12: =IF($A12="","",COUNTIFS('Rezervasyonlar'!$D$2:$D$301,$A12,'Rezervasyonlar'!$E$2:$E$301,"<"&(I$3+1),'Rezervasyonlar'!$F$2:$F$301,">"&I$3,'Rezervasyonlar'!$M$2:$M$301,"<>İptal edildi")) | J12: =IF($A12="","",COUNTIFS('Rezervasyonlar'!$D$2:$D$301,$A12,'Rezervasyonlar'!$E$2:$E$301,"<"&(J$3+1),'Rezervasyonlar'!$F$2:$F$301,">"&J$3,'Rezervasyonlar'!$M$2:$M$301,"<>İptal edildi")) | ... AG12: =IF($A12="","",COUNTIFS('Rezervasyonlar'!$D$2:$D$301,$A12,'Rezervasyonlar'!$E$2:$E$301,"<"&(AG$3+1),'Rezervasyonlar'!$F$2:$F$301,">"&AG$3,'Rezervasyonlar'!$M$2:$M$301,"<>İptal edildi"))
A13: =IF('Araçlar'!A10="","",'Araçlar'!A10) | B13: =IF('Araçlar'!B10="","",'Araçlar'!B10) | C13: =IF($A13="","",COUNTIFS('Rezervasyonlar'!$D$2:$D$301,$A13,'Rezervasyonlar'!$E$2:$E$301,"<"&(C$3+1),'Rezervasyonlar'!$F$2:$F$301,">"&C$3,'Rezervasyonlar'!$M$2:$M$301,"<>İptal edildi")) | D13: =IF($A13="","",COUNTIFS('Rezervasyonlar'!$D$2:$D$301,$A13,'Rezervasyonlar'!$E$2:$E$301,"<"&(D$3+1),'Rezervasyonlar'!$F$2:$F$301,">"&D$3,'Rezervasyonlar'!$M$2:$M$301,"<>İptal edildi")) | E13: =IF($A13="","",COUNTIFS('Rezervasyonlar'!$D$2:$D$301,$A13,'Rezervasyonlar'!$E$2:$E$301,"<"&(E$3+1),'Rezervasyonlar'!$F$2:$F$301,">"&E$3,'Rezervasyonlar'!$M$2:$M$301,"<>İptal edildi")) | F13: =IF($A13="","",COUNTIFS('Rezervasyonlar'!$D$2:$D$301,$A13,'Rezervasyonlar'!$E$2:$E$301,"<"&(F$3+1),'Rezervasyonlar'!$F$2:$F$301,">"&F$3,'Rezervasyonlar'!$M$2:$M$301,"<>İptal edildi")) | G13: =IF($A13="","",COUNTIFS('Rezervasyonlar'!$D$2:$D$301,$A13,'Rezervasyonlar'!$E$2:$E$301,"<"&(G$3+1),'Rezervasyonlar'!$F$2:$F$301,">"&G$3,'Rezervasyonlar'!$M$2:$M$301,"<>İptal edildi")) | H13: =IF($A13="","",COUNTIFS('Rezervasyonlar'!$D$2:$D$301,$A13,'Rezervasyonlar'!$E$2:$E$301,"<"&(H$3+1),'Rezervasyonlar'!$F$2:$F$301,">"&H$3,'Rezervasyonlar'!$M$2:$M$301,"<>İptal edildi")) | I13: =IF($A13="","",COUNTIFS('Rezervasyonlar'!$D$2:$D$301,$A13,'Rezervasyonlar'!$E$2:$E$301,"<"&(I$3+1),'Rezervasyonlar'!$F$2:$F$301,">"&I$3,'Rezervasyonlar'!$M$2:$M$301,"<>İptal edildi")) | J13: =IF($A13="","",COUNTIFS('Rezervasyonlar'!$D$2:$D$301,$A13,'Rezervasyonlar'!$E$2:$E$301,"<"&(J$3+1),'Rezervasyonlar'!$F$2:$F$301,">"&J$3,'Rezervasyonlar'!$M$2:$M$301,"<>İptal edildi")) | ... AG13: =IF($A13="","",COUNTIFS('Rezervasyonlar'!$D$2:$D$301,$A13,'Rezervasyonlar'!$E$2:$E$301,"<"&(AG$3+1),'Rezervasyonlar'!$F$2:$F$301,">"&AG$3,'Rezervasyonlar'!$M$2:$M$301,"<>İptal edildi"))
A14: =IF('Araçlar'!A11="","",'Araçlar'!A11) | B14: =IF('Araçlar'!B11="","",'Araçlar'!B11) | C14: =IF($A14="","",COUNTIFS('Rezervasyonlar'!$D$2:$D$301,$A14,'Rezervasyonlar'!$E$2:$E$301,"<"&(C$3+1),'Rezervasyonlar'!$F$2:$F$301,">"&C$3,'Rezervasyonlar'!$M$2:$M$301,"<>İptal edildi")) | D14: =IF($A14="","",COUNTIFS('Rezervasyonlar'!$D$2:$D$301,$A14,'Rezervasyonlar'!$E$2:$E$301,"<"&(D$3+1),'Rezervasyonlar'!$F$2:$F$301,">"&D$3,'Rezervasyonlar'!$M$2:$M$301,"<>İptal edildi")) | E14: =IF($A14="","",COUNTIFS('Rezervasyonlar'!$D$2:$D$301,$A14,'Rezervasyonlar'!$E$2:$E$301,"<"&(E$3+1),'Rezervasyonlar'!$F$2:$F$301,">"&E$3,'Rezervasyonlar'!$M$2:$M$301,"<>İptal edildi")) | F14: =IF($A14="","",COUNTIFS('Rezervasyonlar'!$D$2:$D$301,$A14,'Rezervasyonlar'!$E$2:$E$301,"<"&(F$3+1),'Rezervasyonlar'!$F$2:$F$301,">"&F$3,'Rezervasyonlar'!$M$2:$M$301,"<>İptal edildi")) | G14: =IF($A14="","",COUNTIFS('Rezervasyonlar'!$D$2:$D$301,$A14,'Rezervasyonlar'!$E$2:$E$301,"<"&(G$3+1),'Rezervasyonlar'!$F$2:$F$301,">"&G$3,'Rezervasyonlar'!$M$2:$M$301,"<>İptal edildi")) | H14: =IF($A14="","",COUNTIFS('Rezervasyonlar'!$D$2:$D$301,$A14,'Rezervasyonlar'!$E$2:$E$301,"<"&(H$3+1),'Rezervasyonlar'!$F$2:$F$301,">"&H$3,'Rezervasyonlar'!$M$2:$M$301,"<>İptal edildi")) | I14: =IF($A14="","",COUNTIFS('Rezervasyonlar'!$D$2:$D$301,$A14,'Rezervasyonlar'!$E$2:$E$301,"<"&(I$3+1),'Rezervasyonlar'!$F$2:$F$301,">"&I$3,'Rezervasyonlar'!$M$2:$M$301,"<>İptal edildi")) | J14: =IF($A14="","",COUNTIFS('Rezervasyonlar'!$D$2:$D$301,$A14,'Rezervasyonlar'!$E$2:$E$301,"<"&(J$3+1),'Rezervasyonlar'!$F$2:$F$301,">"&J$3,'Rezervasyonlar'!$M$2:$M$301,"<>İptal edildi")) | ... AG14: =IF($A14="","",COUNTIFS('Rezervasyonlar'!$D$2:$D$301,$A14,'Rezervasyonlar'!$E$2:$E$301,"<"&(AG$3+1),'Rezervasyonlar'!$F$2:$F$301,">"&AG$3,'Rezervasyonlar'!$M$2:$M$301,"<>İptal edildi"))
A15: =IF('Araçlar'!A12="","",'Araçlar'!A12) | B15: =IF('Araçlar'!B12="","",'Araçlar'!B12) | C15: =IF($A15="","",COUNTIFS('Rezervasyonlar'!$D$2:$D$301,$A15,'Rezervasyonlar'!$E$2:$E$301,"<"&(C$3+1),'Rezervasyonlar'!$F$2:$F$301,">"&C$3,'Rezervasyonlar'!$M$2:$M$301,"<>İptal edildi")) | D15: =IF($A15="","",COUNTIFS('Rezervasyonlar'!$D$2:$D$301,$A15,'Rezervasyonlar'!$E$2:$E$301,"<"&(D$3+1),'Rezervasyonlar'!$F$2:$F$301,">"&D$3,'Rezervasyonlar'!$M$2:$M$301,"<>İptal edildi")) | E15: =IF($A15="","",COUNTIFS('Rezervasyonlar'!$D$2:$D$301,$A15,'Rezervasyonlar'!$E$2:$E$301,"<"&(E$3+1),'Rezervasyonlar'!$F$2:$F$301,">"&E$3,'Rezervasyonlar'!$M$2:$M$301,"<>İptal edildi")) | F15: =IF($A15="","",COUNTIFS('Rezervasyonlar'!$D$2:$D$301,$A15,'Rezervasyonlar'!$E$2:$E$301,"<"&(F$3+1),'Rezervasyonlar'!$F$2:$F$301,">"&F$3,'Rezervasyonlar'!$M$2:$M$301,"<>İptal edildi")) | G15: =IF($A15="","",COUNTIFS('Rezervasyonlar'!$D$2:$D$301,$A15,'Rezervasyonlar'!$E$2:$E$301,"<"&(G$3+1),'Rezervasyonlar'!$F$2:$F$301,">"&G$3,'Rezervasyonlar'!$M$2:$M$301,"<>İptal edildi")) | H15: =IF($A15="","",COUNTIFS('Rezervasyonlar'!$D$2:$D$301,$A15,'Rezervasyonlar'!$E$2:$E$301,"<"&(H$3+1),'Rezervasyonlar'!$F$2:$F$301,">"&H$3,'Rezervasyonlar'!$M$2:$M$301,"<>İptal edildi")) | I15: =IF($A15="","",COUNTIFS('Rezervasyonlar'!$D$2:$D$301,$A15,'Rezervasyonlar'!$E$2:$E$301,"<"&(I$3+1),'Rezervasyonlar'!$F$2:$F$301,">"&I$3,'Rezervasyonlar'!$M$2:$M$301,"<>İptal edildi")) | J15: =IF($A15="","",COUNTIFS('Rezervasyonlar'!$D$2:$D$301,$A15,'Rezervasyonlar'!$E$2:$E$301,"<"&(J$3+1),'Rezervasyonlar'!$F$2:$F$301,">"&J$3,'Rezervasyonlar'!$M$2:$M$301,"<>İptal edildi")) | ... AG15: =IF($A15="","",COUNTIFS('Rezervasyonlar'!$D$2:$D$301,$A15,'Rezervasyonlar'!$E$2:$E$301,"<"&(AG$3+1),'Rezervasyonlar'!$F$2:$F$301,">"&AG$3,'Rezervasyonlar'!$M$2:$M$301,"<>İptal edildi"))
A16: =IF('Araçlar'!A13="","",'Araçlar'!A13) | B16: =IF('Araçlar'!B13="","",'Araçlar'!B13) | C16: =IF($A16="","",COUNTIFS('Rezervasyonlar'!$D$2:$D$301,$A16,'Rezervasyonlar'!$E$2:$E$301,"<"&(C$3+1),'Rezervasyonlar'!$F$2:$F$301,">"&C$3,'Rezervasyonlar'!$M$2:$M$301,"<>İptal edildi")) | D16: =IF($A16="","",COUNTIFS('Rezervasyonlar'!$D$2:$D$301,$A16,'Rezervasyonlar'!$E$2:$E$301,"<"&(D$3+1),'Rezervasyonlar'!$F$2:$F$301,">"&D$3,'Rezervasyonlar'!$M$2:$M$301,"<>İptal edildi")) | E16: =IF($A16="","",COUNTIFS('Rezervasyonlar'!$D$2:$D$301,$A16,'Rezervasyonlar'!$E$2:$E$301,"<"&(E$3+1),'Rezervasyonlar'!$F$2:$F$301,">"&E$3,'Rezervasyonlar'!$M$2:$M$301,"<>İptal edildi")) | F16: =IF($A16="","",COUNTIFS('Rezervasyonlar'!$D$2:$D$301,$A16,'Rezervasyonlar'!$E$2:$E$301,"<"&(F$3+1),'Rezervasyonlar'!$F$2:$F$301,">"&F$3,'Rezervasyonlar'!$M$2:$M$301,"<>İptal edildi")) | G16: =IF($A16="","",COUNTIFS('Rezervasyonlar'!$D$2:$D$301,$A16,'Rezervasyonlar'!$E$2:$E$301,"<"&(G$3+1),'Rezervasyonlar'!$F$2:$F$301,">"&G$3,'Rezervasyonlar'!$M$2:$M$301,"<>İptal edildi")) | H16: =IF($A16="","",COUNTIFS('Rezervasyonlar'!$D$2:$D$301,$A16,'Rezervasyonlar'!$E$2:$E$301,"<"&(H$3+1),'Rezervasyonlar'!$F$2:$F$301,">"&H$3,'Rezervasyonlar'!$M$2:$M$301,"<>İptal edildi")) | I16: =IF($A16="","",COUNTIFS('Rezervasyonlar'!$D$2:$D$301,$A16,'Rezervasyonlar'!$E$2:$E$301,"<"&(I$3+1),'Rezervasyonlar'!$F$2:$F$301,">"&I$3,'Rezervasyonlar'!$M$2:$M$301,"<>İptal edildi")) | J16: =IF($A16="","",COUNTIFS('Rezervasyonlar'!$D$2:$D$301,$A16,'Rezervasyonlar'!$E$2:$E$301,"<"&(J$3+1),'Rezervasyonlar'!$F$2:$F$301,">"&J$3,'Rezervasyonlar'!$M$2:$M$301,"<>İptal edildi")) | ... AG16: =IF($A16="","",COUNTIFS('Rezervasyonlar'!$D$2:$D$301,$A16,'Rezervasyonlar'!$E$2:$E$301,"<"&(AG$3+1),'Rezervasyonlar'!$F$2:$F$301,">"&AG$3,'Rezervasyonlar'!$M$2:$M$301,"<>İptal edildi"))
... A104: =IF('Araçlar'!A101="","",'Araçlar'!A101) | B104: =IF('Araçlar'!B101="","",'Araçlar'!B101) | C104: =IF($A104="","",COUNTIFS('Rezervasyonlar'!$D$2:$D$301,$A104,'Rezervasyonlar'!$E$2:$E$301,"<"&(C$3+1),'Rezervasyonlar'!$F$2:$F$301,">"&C$3,'Rezervasyonlar'!$M$2:$M$301,"<>İptal edildi")) | D104: =IF($A104="","",COUNTIFS('Rezervasyonlar'!$D$2:$D$301,$A104,'Rezervasyonlar'!$E$2:$E$301,"<"&(D$3+1),'Rezervasyonlar'!$F$2:$F$301,">"&D$3,'Rezervasyonlar'!$M$2:$M$301,"<>İptal edildi")) | E104: =IF($A104="","",COUNTIFS('Rezervasyonlar'!$D$2:$D$301,$A104,'Rezervasyonlar'!$E$2:$E$301,"<"&(E$3+1),'Rezervasyonlar'!$F$2:$F$301,">"&E$3,'Rezervasyonlar'!$M$2:$M$301,"<>İptal edildi")) | F104: =IF($A104="","",COUNTIFS('Rezervasyonlar'!$D$2:$D$301,$A104,'Rezervasyonlar'!$E$2:$E$301,"<"&(F$3+1),'Rezervasyonlar'!$F$2:$F$301,">"&F$3,'Rezervasyonlar'!$M$2:$M$301,"<>İptal edildi")) | G104: =IF($A104="","",COUNTIFS('Rezervasyonlar'!$D$2:$D$301,$A104,'Rezervasyonlar'!$E$2:$E$301,"<"&(G$3+1),'Rezervasyonlar'!$F$2:$F$301,">"&G$3,'Rezervasyonlar'!$M$2:$M$301,"<>İptal edildi")) | H104: =IF($A104="","",COUNTIFS('Rezervasyonlar'!$D$2:$D$301,$A104,'Rezervasyonlar'!$E$2:$E$301,"<"&(H$3+1),'Rezervasyonlar'!$F$2:$F$301,">"&H$3,'Rezervasyonlar'!$M$2:$M$301,"<>İptal edildi")) | I104: =IF($A104="","",COUNTIFS('Rezervasyonlar'!$D$2:$D$301,$A104,'Rezervasyonlar'!$E$2:$E$301,"<"&(I$3+1),'Rezervasyonlar'!$F$2:$F$301,">"&I$3,'Rezervasyonlar'!$M$2:$M$301,"<>İptal edildi")) | J104: =IF($A104="","",COUNTIFS('Rezervasyonlar'!$D$2:$D$301,$A104,'Rezervasyonlar'!$E$2:$E$301,"<"&(J$3+1),'Rezervasyonlar'!$F$2:$F$301,">"&J$3,'Rezervasyonlar'!$M$2:$M$301,"<>İptal edildi")) | ... AG104: =IF($A104="","",COUNTIFS('Rezervasyonlar'!$D$2:$D$301,$A104,'Rezervasyonlar'!$E$2:$E$301,"<"&(AG$3+1),'Rezervasyonlar'!$F$2:$F$301,">"&AG$3,'Rezervasyonlar'!$M$2:$M$301,"<>İptal edildi"))
