Workbook

Sheet طريقة الاستخدام
A1: جدول تخطيط نقل الركاب
A3: 1 | B3: أدرج سائقيك في ورقة «السائقون» ومركباتك في ورقة «المركبات». تُختار أسماء السائقين وأرقام اللوحات في ورقتي «المسارات» و«تغييرات ليوم واحد» من هاتين القائمتين، لذا يجب ألا يتكرر أي اسم أو رقم لوحة.
A4: 2 | B4: أضف كل مسار منتظم في ورقة «المسارات»: العميل، ومن أين يبدأ وأين ينتهي، ووقت البداية والنهاية، والحرف x تحت كل يوم يعمل فيه، والسائق والمركبة المعتادين، وعدد الركاب، واليوم الأول واليوم الأخير من العقد.
A5: 3 | B5: يُظهر عمود التحقق عبارة "السائق مشغول" أو "المركبة مشغولة" عندما يكون السائق نفسه أو المركبة نفسها على مسار آخر في وقت متداخل، في يوم يعمل فيه المساران كلاهما. المساران R01 وR03 متعارضان عمدًا لإظهار التنبيه.
A6: 4 | B6: تعرض ورقة «المخطط الأسبوعي» كل مسار مقابل أيام الأسبوع السبعة التي تبدأ بالتاريخ المكتوب في الخانة B2. وتعرض كل خانة سائق تلك الرحلة، أو تبقى فارغة حين لا يعمل المسار في ذلك اليوم.
A7: 5 | B7: حين يغيب سائق ليوم واحد، أضف صفًا في ورقة «تغييرات ليوم واحد»: التاريخ والمسار والسائق البديل. فيعرض المخطط السائق البديل في ذلك اليوم وحده، باللون الكهرماني.
A8: 6 | B8: لتغيير السائق بصفة دائمة، غيّر السائق المعتاد في ورقة «المسارات». ولإيقاف مسار، اكتب يومه الأخير.
A9: 7 | B9: احذف صفوف الأمثلة قبل البدء، واحفظ نسخة واحدة من الملف في مكان واحد مشترك.
A11: قالب من Odobase — odobase.com

Sheet المخطط الأسبوعي
A1: المسارات والسائقون يومًا بيوم
A2: بداية الأسبوع | B2: 46328 | C2: فارغ = لا يعمل المسار في ذلك اليوم. باللون الكهرماني = تغيير ليوم واحد يحلّ محل السائق المعتاد.
A4: المسار | B4: العميل | C4: البداية | D4: =$B$2 | E4: =D4+1 | F4: =E4+1 | G4: =F4+1 | H4: =G4+1 | I4: =H4+1 | J4: =I4+1
A5: =IF('المسارات'!A2="","",'المسارات'!A2) | B5: =IF('المسارات'!A2="","",'المسارات'!B2) | C5: =IF('المسارات'!A2="","",'المسارات'!E2) | D5: =IF($A5="","",IF(AND(INDEX('المسارات'!$G2:$M2,1,WEEKDAY(D$4,2))="x",D$4>='المسارات'!$Q2,D$4<='المسارات'!$R2),IFERROR(INDEX('تغييرات ليوم واحد'!$C$2:$C$201,MATCH(D$4&"|"&$A5,'تغييرات ليوم واحد'!$E$2:$E$201,0)),'المسارات'!$N2),"")) | E5: =IF($A5="","",IF(AND(INDEX('المسارات'!$G2:$M2,1,WEEKDAY(E$4,2))="x",E$4>='المسارات'!$Q2,E$4<='المسارات'!$R2),IFERROR(INDEX('تغييرات ليوم واحد'!$C$2:$C$201,MATCH(E$4&"|"&$A5,'تغييرات ليوم واحد'!$E$2:$E$201,0)),'المسارات'!$N2),"")) | F5: =IF($A5="","",IF(AND(INDEX('المسارات'!$G2:$M2,1,WEEKDAY(F$4,2))="x",F$4>='المسارات'!$Q2,F$4<='المسارات'!$R2),IFERROR(INDEX('تغييرات ليوم واحد'!$C$2:$C$201,MATCH(F$4&"|"&$A5,'تغييرات ليوم واحد'!$E$2:$E$201,0)),'المسارات'!$N2),"")) | G5: =IF($A5="","",IF(AND(INDEX('المسارات'!$G2:$M2,1,WEEKDAY(G$4,2))="x",G$4>='المسارات'!$Q2,G$4<='المسارات'!$R2),IFERROR(INDEX('تغييرات ليوم واحد'!$C$2:$C$201,MATCH(G$4&"|"&$A5,'تغييرات ليوم واحد'!$E$2:$E$201,0)),'المسارات'!$N2),"")) | H5: =IF($A5="","",IF(AND(INDEX('المسارات'!$G2:$M2,1,WEEKDAY(H$4,2))="x",H$4>='المسارات'!$Q2,H$4<='المسارات'!$R2),IFERROR(INDEX('تغييرات ليوم واحد'!$C$2:$C$201,MATCH(H$4&"|"&$A5,'تغييرات ليوم واحد'!$E$2:$E$201,0)),'المسارات'!$N2),"")) | I5: =IF($A5="","",IF(AND(INDEX('المسارات'!$G2:$M2,1,WEEKDAY(I$4,2))="x",I$4>='المسارات'!$Q2,I$4<='المسارات'!$R2),IFERROR(INDEX('تغييرات ليوم واحد'!$C$2:$C$201,MATCH(I$4&"|"&$A5,'تغييرات ليوم واحد'!$E$2:$E$201,0)),'المسارات'!$N2),"")) | J5: =IF($A5="","",IF(AND(INDEX('المسارات'!$G2:$M2,1,WEEKDAY(J$4,2))="x",J$4>='المسارات'!$Q2,J$4<='المسارات'!$R2),IFERROR(INDEX('تغييرات ليوم واحد'!$C$2:$C$201,MATCH(J$4&"|"&$A5,'تغييرات ليوم واحد'!$E$2:$E$201,0)),'المسارات'!$N2),""))
A6: =IF('المسارات'!A3="","",'المسارات'!A3) | B6: =IF('المسارات'!A3="","",'المسارات'!B3) | C6: =IF('المسارات'!A3="","",'المسارات'!E3) | D6: =IF($A6="","",IF(AND(INDEX('المسارات'!$G3:$M3,1,WEEKDAY(D$4,2))="x",D$4>='المسارات'!$Q3,D$4<='المسارات'!$R3),IFERROR(INDEX('تغييرات ليوم واحد'!$C$2:$C$201,MATCH(D$4&"|"&$A6,'تغييرات ليوم واحد'!$E$2:$E$201,0)),'المسارات'!$N3),"")) | E6: =IF($A6="","",IF(AND(INDEX('المسارات'!$G3:$M3,1,WEEKDAY(E$4,2))="x",E$4>='المسارات'!$Q3,E$4<='المسارات'!$R3),IFERROR(INDEX('تغييرات ليوم واحد'!$C$2:$C$201,MATCH(E$4&"|"&$A6,'تغييرات ليوم واحد'!$E$2:$E$201,0)),'المسارات'!$N3),"")) | F6: =IF($A6="","",IF(AND(INDEX('المسارات'!$G3:$M3,1,WEEKDAY(F$4,2))="x",F$4>='المسارات'!$Q3,F$4<='المسارات'!$R3),IFERROR(INDEX('تغييرات ليوم واحد'!$C$2:$C$201,MATCH(F$4&"|"&$A6,'تغييرات ليوم واحد'!$E$2:$E$201,0)),'المسارات'!$N3),"")) | G6: =IF($A6="","",IF(AND(INDEX('المسارات'!$G3:$M3,1,WEEKDAY(G$4,2))="x",G$4>='المسارات'!$Q3,G$4<='المسارات'!$R3),IFERROR(INDEX('تغييرات ليوم واحد'!$C$2:$C$201,MATCH(G$4&"|"&$A6,'تغييرات ليوم واحد'!$E$2:$E$201,0)),'المسارات'!$N3),"")) | H6: =IF($A6="","",IF(AND(INDEX('المسارات'!$G3:$M3,1,WEEKDAY(H$4,2))="x",H$4>='المسارات'!$Q3,H$4<='المسارات'!$R3),IFERROR(INDEX('تغييرات ليوم واحد'!$C$2:$C$201,MATCH(H$4&"|"&$A6,'تغييرات ليوم واحد'!$E$2:$E$201,0)),'المسارات'!$N3),"")) | I6: =IF($A6="","",IF(AND(INDEX('المسارات'!$G3:$M3,1,WEEKDAY(I$4,2))="x",I$4>='المسارات'!$Q3,I$4<='المسارات'!$R3),IFERROR(INDEX('تغييرات ليوم واحد'!$C$2:$C$201,MATCH(I$4&"|"&$A6,'تغييرات ليوم واحد'!$E$2:$E$201,0)),'المسارات'!$N3),"")) | J6: =IF($A6="","",IF(AND(INDEX('المسارات'!$G3:$M3,1,WEEKDAY(J$4,2))="x",J$4>='المسارات'!$Q3,J$4<='المسارات'!$R3),IFERROR(INDEX('تغييرات ليوم واحد'!$C$2:$C$201,MATCH(J$4&"|"&$A6,'تغييرات ليوم واحد'!$E$2:$E$201,0)),'المسارات'!$N3),""))
A7: =IF('المسارات'!A4="","",'المسارات'!A4) | B7: =IF('المسارات'!A4="","",'المسارات'!B4) | C7: =IF('المسارات'!A4="","",'المسارات'!E4) | D7: =IF($A7="","",IF(AND(INDEX('المسارات'!$G4:$M4,1,WEEKDAY(D$4,2))="x",D$4>='المسارات'!$Q4,D$4<='المسارات'!$R4),IFERROR(INDEX('تغييرات ليوم واحد'!$C$2:$C$201,MATCH(D$4&"|"&$A7,'تغييرات ليوم واحد'!$E$2:$E$201,0)),'المسارات'!$N4),"")) | E7: =IF($A7="","",IF(AND(INDEX('المسارات'!$G4:$M4,1,WEEKDAY(E$4,2))="x",E$4>='المسارات'!$Q4,E$4<='المسارات'!$R4),IFERROR(INDEX('تغييرات ليوم واحد'!$C$2:$C$201,MATCH(E$4&"|"&$A7,'تغييرات ليوم واحد'!$E$2:$E$201,0)),'المسارات'!$N4),"")) | F7: =IF($A7="","",IF(AND(INDEX('المسارات'!$G4:$M4,1,WEEKDAY(F$4,2))="x",F$4>='المسارات'!$Q4,F$4<='المسارات'!$R4),IFERROR(INDEX('تغييرات ليوم واحد'!$C$2:$C$201,MATCH(F$4&"|"&$A7,'تغييرات ليوم واحد'!$E$2:$E$201,0)),'المسارات'!$N4),"")) | G7: =IF($A7="","",IF(AND(INDEX('المسارات'!$G4:$M4,1,WEEKDAY(G$4,2))="x",G$4>='المسارات'!$Q4,G$4<='المسارات'!$R4),IFERROR(INDEX('تغييرات ليوم واحد'!$C$2:$C$201,MATCH(G$4&"|"&$A7,'تغييرات ليوم واحد'!$E$2:$E$201,0)),'المسارات'!$N4),"")) | H7: =IF($A7="","",IF(AND(INDEX('المسارات'!$G4:$M4,1,WEEKDAY(H$4,2))="x",H$4>='المسارات'!$Q4,H$4<='المسارات'!$R4),IFERROR(INDEX('تغييرات ليوم واحد'!$C$2:$C$201,MATCH(H$4&"|"&$A7,'تغييرات ليوم واحد'!$E$2:$E$201,0)),'المسارات'!$N4),"")) | I7: =IF($A7="","",IF(AND(INDEX('المسارات'!$G4:$M4,1,WEEKDAY(I$4,2))="x",I$4>='المسارات'!$Q4,I$4<='المسارات'!$R4),IFERROR(INDEX('تغييرات ليوم واحد'!$C$2:$C$201,MATCH(I$4&"|"&$A7,'تغييرات ليوم واحد'!$E$2:$E$201,0)),'المسارات'!$N4),"")) | J7: =IF($A7="","",IF(AND(INDEX('المسارات'!$G4:$M4,1,WEEKDAY(J$4,2))="x",J$4>='المسارات'!$Q4,J$4<='المسارات'!$R4),IFERROR(INDEX('تغييرات ليوم واحد'!$C$2:$C$201,MATCH(J$4&"|"&$A7,'تغييرات ليوم واحد'!$E$2:$E$201,0)),'المسارات'!$N4),""))
A8: =IF('المسارات'!A5="","",'المسارات'!A5) | B8: =IF('المسارات'!A5="","",'المسارات'!B5) | C8: =IF('المسارات'!A5="","",'المسارات'!E5) | D8: =IF($A8="","",IF(AND(INDEX('المسارات'!$G5:$M5,1,WEEKDAY(D$4,2))="x",D$4>='المسارات'!$Q5,D$4<='المسارات'!$R5),IFERROR(INDEX('تغييرات ليوم واحد'!$C$2:$C$201,MATCH(D$4&"|"&$A8,'تغييرات ليوم واحد'!$E$2:$E$201,0)),'المسارات'!$N5),"")) | E8: =IF($A8="","",IF(AND(INDEX('المسارات'!$G5:$M5,1,WEEKDAY(E$4,2))="x",E$4>='المسارات'!$Q5,E$4<='المسارات'!$R5),IFERROR(INDEX('تغييرات ليوم واحد'!$C$2:$C$201,MATCH(E$4&"|"&$A8,'تغييرات ليوم واحد'!$E$2:$E$201,0)),'المسارات'!$N5),"")) | F8: =IF($A8="","",IF(AND(INDEX('المسارات'!$G5:$M5,1,WEEKDAY(F$4,2))="x",F$4>='المسارات'!$Q5,F$4<='المسارات'!$R5),IFERROR(INDEX('تغييرات ليوم واحد'!$C$2:$C$201,MATCH(F$4&"|"&$A8,'تغييرات ليوم واحد'!$E$2:$E$201,0)),'المسارات'!$N5),"")) | G8: =IF($A8="","",IF(AND(INDEX('المسارات'!$G5:$M5,1,WEEKDAY(G$4,2))="x",G$4>='المسارات'!$Q5,G$4<='المسارات'!$R5),IFERROR(INDEX('تغييرات ليوم واحد'!$C$2:$C$201,MATCH(G$4&"|"&$A8,'تغييرات ليوم واحد'!$E$2:$E$201,0)),'المسارات'!$N5),"")) | H8: =IF($A8="","",IF(AND(INDEX('المسارات'!$G5:$M5,1,WEEKDAY(H$4,2))="x",H$4>='المسارات'!$Q5,H$4<='المسارات'!$R5),IFERROR(INDEX('تغييرات ليوم واحد'!$C$2:$C$201,MATCH(H$4&"|"&$A8,'تغييرات ليوم واحد'!$E$2:$E$201,0)),'المسارات'!$N5),"")) | I8: =IF($A8="","",IF(AND(INDEX('المسارات'!$G5:$M5,1,WEEKDAY(I$4,2))="x",I$4>='المسارات'!$Q5,I$4<='المسارات'!$R5),IFERROR(INDEX('تغييرات ليوم واحد'!$C$2:$C$201,MATCH(I$4&"|"&$A8,'تغييرات ليوم واحد'!$E$2:$E$201,0)),'المسارات'!$N5),"")) | J8: =IF($A8="","",IF(AND(INDEX('المسارات'!$G5:$M5,1,WEEKDAY(J$4,2))="x",J$4>='المسارات'!$Q5,J$4<='المسارات'!$R5),IFERROR(INDEX('تغييرات ليوم واحد'!$C$2:$C$201,MATCH(J$4&"|"&$A8,'تغييرات ليوم واحد'!$E$2:$E$201,0)),'المسارات'!$N5),""))
A9: =IF('المسارات'!A6="","",'المسارات'!A6) | B9: =IF('المسارات'!A6="","",'المسارات'!B6) | C9: =IF('المسارات'!A6="","",'المسارات'!E6) | D9: =IF($A9="","",IF(AND(INDEX('المسارات'!$G6:$M6,1,WEEKDAY(D$4,2))="x",D$4>='المسارات'!$Q6,D$4<='المسارات'!$R6),IFERROR(INDEX('تغييرات ليوم واحد'!$C$2:$C$201,MATCH(D$4&"|"&$A9,'تغييرات ليوم واحد'!$E$2:$E$201,0)),'المسارات'!$N6),"")) | E9: =IF($A9="","",IF(AND(INDEX('المسارات'!$G6:$M6,1,WEEKDAY(E$4,2))="x",E$4>='المسارات'!$Q6,E$4<='المسارات'!$R6),IFERROR(INDEX('تغييرات ليوم واحد'!$C$2:$C$201,MATCH(E$4&"|"&$A9,'تغييرات ليوم واحد'!$E$2:$E$201,0)),'المسارات'!$N6),"")) | F9: =IF($A9="","",IF(AND(INDEX('المسارات'!$G6:$M6,1,WEEKDAY(F$4,2))="x",F$4>='المسارات'!$Q6,F$4<='المسارات'!$R6),IFERROR(INDEX('تغييرات ليوم واحد'!$C$2:$C$201,MATCH(F$4&"|"&$A9,'تغييرات ليوم واحد'!$E$2:$E$201,0)),'المسارات'!$N6),"")) | G9: =IF($A9="","",IF(AND(INDEX('المسارات'!$G6:$M6,1,WEEKDAY(G$4,2))="x",G$4>='المسارات'!$Q6,G$4<='المسارات'!$R6),IFERROR(INDEX('تغييرات ليوم واحد'!$C$2:$C$201,MATCH(G$4&"|"&$A9,'تغييرات ليوم واحد'!$E$2:$E$201,0)),'المسارات'!$N6),"")) | H9: =IF($A9="","",IF(AND(INDEX('المسارات'!$G6:$M6,1,WEEKDAY(H$4,2))="x",H$4>='المسارات'!$Q6,H$4<='المسارات'!$R6),IFERROR(INDEX('تغييرات ليوم واحد'!$C$2:$C$201,MATCH(H$4&"|"&$A9,'تغييرات ليوم واحد'!$E$2:$E$201,0)),'المسارات'!$N6),"")) | I9: =IF($A9="","",IF(AND(INDEX('المسارات'!$G6:$M6,1,WEEKDAY(I$4,2))="x",I$4>='المسارات'!$Q6,I$4<='المسارات'!$R6),IFERROR(INDEX('تغييرات ليوم واحد'!$C$2:$C$201,MATCH(I$4&"|"&$A9,'تغييرات ليوم واحد'!$E$2:$E$201,0)),'المسارات'!$N6),"")) | J9: =IF($A9="","",IF(AND(INDEX('المسارات'!$G6:$M6,1,WEEKDAY(J$4,2))="x",J$4>='المسارات'!$Q6,J$4<='المسارات'!$R6),IFERROR(INDEX('تغييرات ليوم واحد'!$C$2:$C$201,MATCH(J$4&"|"&$A9,'تغييرات ليوم واحد'!$E$2:$E$201,0)),'المسارات'!$N6),""))
A10: =IF('المسارات'!A7="","",'المسارات'!A7) | B10: =IF('المسارات'!A7="","",'المسارات'!B7) | C10: =IF('المسارات'!A7="","",'المسارات'!E7) | D10: =IF($A10="","",IF(AND(INDEX('المسارات'!$G7:$M7,1,WEEKDAY(D$4,2))="x",D$4>='المسارات'!$Q7,D$4<='المسارات'!$R7),IFERROR(INDEX('تغييرات ليوم واحد'!$C$2:$C$201,MATCH(D$4&"|"&$A10,'تغييرات ليوم واحد'!$E$2:$E$201,0)),'المسارات'!$N7),"")) | E10: =IF($A10="","",IF(AND(INDEX('المسارات'!$G7:$M7,1,WEEKDAY(E$4,2))="x",E$4>='المسارات'!$Q7,E$4<='المسارات'!$R7),IFERROR(INDEX('تغييرات ليوم واحد'!$C$2:$C$201,MATCH(E$4&"|"&$A10,'تغييرات ليوم واحد'!$E$2:$E$201,0)),'المسارات'!$N7),"")) | F10: =IF($A10="","",IF(AND(INDEX('المسارات'!$G7:$M7,1,WEEKDAY(F$4,2))="x",F$4>='المسارات'!$Q7,F$4<='المسارات'!$R7),IFERROR(INDEX('تغييرات ليوم واحد'!$C$2:$C$201,MATCH(F$4&"|"&$A10,'تغييرات ليوم واحد'!$E$2:$E$201,0)),'المسارات'!$N7),"")) | G10: =IF($A10="","",IF(AND(INDEX('المسارات'!$G7:$M7,1,WEEKDAY(G$4,2))="x",G$4>='المسارات'!$Q7,G$4<='المسارات'!$R7),IFERROR(INDEX('تغييرات ليوم واحد'!$C$2:$C$201,MATCH(G$4&"|"&$A10,'تغييرات ليوم واحد'!$E$2:$E$201,0)),'المسارات'!$N7),"")) | H10: =IF($A10="","",IF(AND(INDEX('المسارات'!$G7:$M7,1,WEEKDAY(H$4,2))="x",H$4>='المسارات'!$Q7,H$4<='المسارات'!$R7),IFERROR(INDEX('تغييرات ليوم واحد'!$C$2:$C$201,MATCH(H$4&"|"&$A10,'تغييرات ليوم واحد'!$E$2:$E$201,0)),'المسارات'!$N7),"")) | I10: =IF($A10="","",IF(AND(INDEX('المسارات'!$G7:$M7,1,WEEKDAY(I$4,2))="x",I$4>='المسارات'!$Q7,I$4<='المسارات'!$R7),IFERROR(INDEX('تغييرات ليوم واحد'!$C$2:$C$201,MATCH(I$4&"|"&$A10,'تغييرات ليوم واحد'!$E$2:$E$201,0)),'المسارات'!$N7),"")) | J10: =IF($A10="","",IF(AND(INDEX('المسارات'!$G7:$M7,1,WEEKDAY(J$4,2))="x",J$4>='المسارات'!$Q7,J$4<='المسارات'!$R7),IFERROR(INDEX('تغييرات ليوم واحد'!$C$2:$C$201,MATCH(J$4&"|"&$A10,'تغييرات ليوم واحد'!$E$2:$E$201,0)),'المسارات'!$N7),""))
A11: =IF('المسارات'!A8="","",'المسارات'!A8) | B11: =IF('المسارات'!A8="","",'المسارات'!B8) | C11: =IF('المسارات'!A8="","",'المسارات'!E8) | D11: =IF($A11="","",IF(AND(INDEX('المسارات'!$G8:$M8,1,WEEKDAY(D$4,2))="x",D$4>='المسارات'!$Q8,D$4<='المسارات'!$R8),IFERROR(INDEX('تغييرات ليوم واحد'!$C$2:$C$201,MATCH(D$4&"|"&$A11,'تغييرات ليوم واحد'!$E$2:$E$201,0)),'المسارات'!$N8),"")) | E11: =IF($A11="","",IF(AND(INDEX('المسارات'!$G8:$M8,1,WEEKDAY(E$4,2))="x",E$4>='المسارات'!$Q8,E$4<='المسارات'!$R8),IFERROR(INDEX('تغييرات ليوم واحد'!$C$2:$C$201,MATCH(E$4&"|"&$A11,'تغييرات ليوم واحد'!$E$2:$E$201,0)),'المسارات'!$N8),"")) | F11: =IF($A11="","",IF(AND(INDEX('المسارات'!$G8:$M8,1,WEEKDAY(F$4,2))="x",F$4>='المسارات'!$Q8,F$4<='المسارات'!$R8),IFERROR(INDEX('تغييرات ليوم واحد'!$C$2:$C$201,MATCH(F$4&"|"&$A11,'تغييرات ليوم واحد'!$E$2:$E$201,0)),'المسارات'!$N8),"")) | G11: =IF($A11="","",IF(AND(INDEX('المسارات'!$G8:$M8,1,WEEKDAY(G$4,2))="x",G$4>='المسارات'!$Q8,G$4<='المسارات'!$R8),IFERROR(INDEX('تغييرات ليوم واحد'!$C$2:$C$201,MATCH(G$4&"|"&$A11,'تغييرات ليوم واحد'!$E$2:$E$201,0)),'المسارات'!$N8),"")) | H11: =IF($A11="","",IF(AND(INDEX('المسارات'!$G8:$M8,1,WEEKDAY(H$4,2))="x",H$4>='المسارات'!$Q8,H$4<='المسارات'!$R8),IFERROR(INDEX('تغييرات ليوم واحد'!$C$2:$C$201,MATCH(H$4&"|"&$A11,'تغييرات ليوم واحد'!$E$2:$E$201,0)),'المسارات'!$N8),"")) | I11: =IF($A11="","",IF(AND(INDEX('المسارات'!$G8:$M8,1,WEEKDAY(I$4,2))="x",I$4>='المسارات'!$Q8,I$4<='المسارات'!$R8),IFERROR(INDEX('تغييرات ليوم واحد'!$C$2:$C$201,MATCH(I$4&"|"&$A11,'تغييرات ليوم واحد'!$E$2:$E$201,0)),'المسارات'!$N8),"")) | J11: =IF($A11="","",IF(AND(INDEX('المسارات'!$G8:$M8,1,WEEKDAY(J$4,2))="x",J$4>='المسارات'!$Q8,J$4<='المسارات'!$R8),IFERROR(INDEX('تغييرات ليوم واحد'!$C$2:$C$201,MATCH(J$4&"|"&$A11,'تغييرات ليوم واحد'!$E$2:$E$201,0)),'المسارات'!$N8),""))
A12: =IF('المسارات'!A9="","",'المسارات'!A9) | B12: =IF('المسارات'!A9="","",'المسارات'!B9) | C12: =IF('المسارات'!A9="","",'المسارات'!E9) | D12: =IF($A12="","",IF(AND(INDEX('المسارات'!$G9:$M9,1,WEEKDAY(D$4,2))="x",D$4>='المسارات'!$Q9,D$4<='المسارات'!$R9),IFERROR(INDEX('تغييرات ليوم واحد'!$C$2:$C$201,MATCH(D$4&"|"&$A12,'تغييرات ليوم واحد'!$E$2:$E$201,0)),'المسارات'!$N9),"")) | E12: =IF($A12="","",IF(AND(INDEX('المسارات'!$G9:$M9,1,WEEKDAY(E$4,2))="x",E$4>='المسارات'!$Q9,E$4<='المسارات'!$R9),IFERROR(INDEX('تغييرات ليوم واحد'!$C$2:$C$201,MATCH(E$4&"|"&$A12,'تغييرات ليوم واحد'!$E$2:$E$201,0)),'المسارات'!$N9),"")) | F12: =IF($A12="","",IF(AND(INDEX('المسارات'!$G9:$M9,1,WEEKDAY(F$4,2))="x",F$4>='المسارات'!$Q9,F$4<='المسارات'!$R9),IFERROR(INDEX('تغييرات ليوم واحد'!$C$2:$C$201,MATCH(F$4&"|"&$A12,'تغييرات ليوم واحد'!$E$2:$E$201,0)),'المسارات'!$N9),"")) | G12: =IF($A12="","",IF(AND(INDEX('المسارات'!$G9:$M9,1,WEEKDAY(G$4,2))="x",G$4>='المسارات'!$Q9,G$4<='المسارات'!$R9),IFERROR(INDEX('تغييرات ليوم واحد'!$C$2:$C$201,MATCH(G$4&"|"&$A12,'تغييرات ليوم واحد'!$E$2:$E$201,0)),'المسارات'!$N9),"")) | H12: =IF($A12="","",IF(AND(INDEX('المسارات'!$G9:$M9,1,WEEKDAY(H$4,2))="x",H$4>='المسارات'!$Q9,H$4<='المسارات'!$R9),IFERROR(INDEX('تغييرات ليوم واحد'!$C$2:$C$201,MATCH(H$4&"|"&$A12,'تغييرات ليوم واحد'!$E$2:$E$201,0)),'المسارات'!$N9),"")) | I12: =IF($A12="","",IF(AND(INDEX('المسارات'!$G9:$M9,1,WEEKDAY(I$4,2))="x",I$4>='المسارات'!$Q9,I$4<='المسارات'!$R9),IFERROR(INDEX('تغييرات ليوم واحد'!$C$2:$C$201,MATCH(I$4&"|"&$A12,'تغييرات ليوم واحد'!$E$2:$E$201,0)),'المسارات'!$N9),"")) | J12: =IF($A12="","",IF(AND(INDEX('المسارات'!$G9:$M9,1,WEEKDAY(J$4,2))="x",J$4>='المسارات'!$Q9,J$4<='المسارات'!$R9),IFERROR(INDEX('تغييرات ليوم واحد'!$C$2:$C$201,MATCH(J$4&"|"&$A12,'تغييرات ليوم واحد'!$E$2:$E$201,0)),'المسارات'!$N9),""))
A13: =IF('المسارات'!A10="","",'المسارات'!A10) | B13: =IF('المسارات'!A10="","",'المسارات'!B10) | C13: =IF('المسارات'!A10="","",'المسارات'!E10) | D13: =IF($A13="","",IF(AND(INDEX('المسارات'!$G10:$M10,1,WEEKDAY(D$4,2))="x",D$4>='المسارات'!$Q10,D$4<='المسارات'!$R10),IFERROR(INDEX('تغييرات ليوم واحد'!$C$2:$C$201,MATCH(D$4&"|"&$A13,'تغييرات ليوم واحد'!$E$2:$E$201,0)),'المسارات'!$N10),"")) | E13: =IF($A13="","",IF(AND(INDEX('المسارات'!$G10:$M10,1,WEEKDAY(E$4,2))="x",E$4>='المسارات'!$Q10,E$4<='المسارات'!$R10),IFERROR(INDEX('تغييرات ليوم واحد'!$C$2:$C$201,MATCH(E$4&"|"&$A13,'تغييرات ليوم واحد'!$E$2:$E$201,0)),'المسارات'!$N10),"")) | F13: =IF($A13="","",IF(AND(INDEX('المسارات'!$G10:$M10,1,WEEKDAY(F$4,2))="x",F$4>='المسارات'!$Q10,F$4<='المسارات'!$R10),IFERROR(INDEX('تغييرات ليوم واحد'!$C$2:$C$201,MATCH(F$4&"|"&$A13,'تغييرات ليوم واحد'!$E$2:$E$201,0)),'المسارات'!$N10),"")) | G13: =IF($A13="","",IF(AND(INDEX('المسارات'!$G10:$M10,1,WEEKDAY(G$4,2))="x",G$4>='المسارات'!$Q10,G$4<='المسارات'!$R10),IFERROR(INDEX('تغييرات ليوم واحد'!$C$2:$C$201,MATCH(G$4&"|"&$A13,'تغييرات ليوم واحد'!$E$2:$E$201,0)),'المسارات'!$N10),"")) | H13: =IF($A13="","",IF(AND(INDEX('المسارات'!$G10:$M10,1,WEEKDAY(H$4,2))="x",H$4>='المسارات'!$Q10,H$4<='المسارات'!$R10),IFERROR(INDEX('تغييرات ليوم واحد'!$C$2:$C$201,MATCH(H$4&"|"&$A13,'تغييرات ليوم واحد'!$E$2:$E$201,0)),'المسارات'!$N10),"")) | I13: =IF($A13="","",IF(AND(INDEX('المسارات'!$G10:$M10,1,WEEKDAY(I$4,2))="x",I$4>='المسارات'!$Q10,I$4<='المسارات'!$R10),IFERROR(INDEX('تغييرات ليوم واحد'!$C$2:$C$201,MATCH(I$4&"|"&$A13,'تغييرات ليوم واحد'!$E$2:$E$201,0)),'المسارات'!$N10),"")) | J13: =IF($A13="","",IF(AND(INDEX('المسارات'!$G10:$M10,1,WEEKDAY(J$4,2))="x",J$4>='المسارات'!$Q10,J$4<='المسارات'!$R10),IFERROR(INDEX('تغييرات ليوم واحد'!$C$2:$C$201,MATCH(J$4&"|"&$A13,'تغييرات ليوم واحد'!$E$2:$E$201,0)),'المسارات'!$N10),""))
A14: =IF('المسارات'!A11="","",'المسارات'!A11) | B14: =IF('المسارات'!A11="","",'المسارات'!B11) | C14: =IF('المسارات'!A11="","",'المسارات'!E11) | D14: =IF($A14="","",IF(AND(INDEX('المسارات'!$G11:$M11,1,WEEKDAY(D$4,2))="x",D$4>='المسارات'!$Q11,D$4<='المسارات'!$R11),IFERROR(INDEX('تغييرات ليوم واحد'!$C$2:$C$201,MATCH(D$4&"|"&$A14,'تغييرات ليوم واحد'!$E$2:$E$201,0)),'المسارات'!$N11),"")) | E14: =IF($A14="","",IF(AND(INDEX('المسارات'!$G11:$M11,1,WEEKDAY(E$4,2))="x",E$4>='المسارات'!$Q11,E$4<='المسارات'!$R11),IFERROR(INDEX('تغييرات ليوم واحد'!$C$2:$C$201,MATCH(E$4&"|"&$A14,'تغييرات ليوم واحد'!$E$2:$E$201,0)),'المسارات'!$N11),"")) | F14: =IF($A14="","",IF(AND(INDEX('المسارات'!$G11:$M11,1,WEEKDAY(F$4,2))="x",F$4>='المسارات'!$Q11,F$4<='المسارات'!$R11),IFERROR(INDEX('تغييرات ليوم واحد'!$C$2:$C$201,MATCH(F$4&"|"&$A14,'تغييرات ليوم واحد'!$E$2:$E$201,0)),'المسارات'!$N11),"")) | G14: =IF($A14="","",IF(AND(INDEX('المسارات'!$G11:$M11,1,WEEKDAY(G$4,2))="x",G$4>='المسارات'!$Q11,G$4<='المسارات'!$R11),IFERROR(INDEX('تغييرات ليوم واحد'!$C$2:$C$201,MATCH(G$4&"|"&$A14,'تغييرات ليوم واحد'!$E$2:$E$201,0)),'المسارات'!$N11),"")) | H14: =IF($A14="","",IF(AND(INDEX('المسارات'!$G11:$M11,1,WEEKDAY(H$4,2))="x",H$4>='المسارات'!$Q11,H$4<='المسارات'!$R11),IFERROR(INDEX('تغييرات ليوم واحد'!$C$2:$C$201,MATCH(H$4&"|"&$A14,'تغييرات ليوم واحد'!$E$2:$E$201,0)),'المسارات'!$N11),"")) | I14: =IF($A14="","",IF(AND(INDEX('المسارات'!$G11:$M11,1,WEEKDAY(I$4,2))="x",I$4>='المسارات'!$Q11,I$4<='المسارات'!$R11),IFERROR(INDEX('تغييرات ليوم واحد'!$C$2:$C$201,MATCH(I$4&"|"&$A14,'تغييرات ليوم واحد'!$E$2:$E$201,0)),'المسارات'!$N11),"")) | J14: =IF($A14="","",IF(AND(INDEX('المسارات'!$G11:$M11,1,WEEKDAY(J$4,2))="x",J$4>='المسارات'!$Q11,J$4<='المسارات'!$R11),IFERROR(INDEX('تغييرات ليوم واحد'!$C$2:$C$201,MATCH(J$4&"|"&$A14,'تغييرات ليوم واحد'!$E$2:$E$201,0)),'المسارات'!$N11),""))
A15: =IF('المسارات'!A12="","",'المسارات'!A12) | B15: =IF('المسارات'!A12="","",'المسارات'!B12) | C15: =IF('المسارات'!A12="","",'المسارات'!E12) | D15: =IF($A15="","",IF(AND(INDEX('المسارات'!$G12:$M12,1,WEEKDAY(D$4,2))="x",D$4>='المسارات'!$Q12,D$4<='المسارات'!$R12),IFERROR(INDEX('تغييرات ليوم واحد'!$C$2:$C$201,MATCH(D$4&"|"&$A15,'تغييرات ليوم واحد'!$E$2:$E$201,0)),'المسارات'!$N12),"")) | E15: =IF($A15="","",IF(AND(INDEX('المسارات'!$G12:$M12,1,WEEKDAY(E$4,2))="x",E$4>='المسارات'!$Q12,E$4<='المسارات'!$R12),IFERROR(INDEX('تغييرات ليوم واحد'!$C$2:$C$201,MATCH(E$4&"|"&$A15,'تغييرات ليوم واحد'!$E$2:$E$201,0)),'المسارات'!$N12),"")) | F15: =IF($A15="","",IF(AND(INDEX('المسارات'!$G12:$M12,1,WEEKDAY(F$4,2))="x",F$4>='المسارات'!$Q12,F$4<='المسارات'!$R12),IFERROR(INDEX('تغييرات ليوم واحد'!$C$2:$C$201,MATCH(F$4&"|"&$A15,'تغييرات ليوم واحد'!$E$2:$E$201,0)),'المسارات'!$N12),"")) | G15: =IF($A15="","",IF(AND(INDEX('المسارات'!$G12:$M12,1,WEEKDAY(G$4,2))="x",G$4>='المسارات'!$Q12,G$4<='المسارات'!$R12),IFERROR(INDEX('تغييرات ليوم واحد'!$C$2:$C$201,MATCH(G$4&"|"&$A15,'تغييرات ليوم واحد'!$E$2:$E$201,0)),'المسارات'!$N12),"")) | H15: =IF($A15="","",IF(AND(INDEX('المسارات'!$G12:$M12,1,WEEKDAY(H$4,2))="x",H$4>='المسارات'!$Q12,H$4<='المسارات'!$R12),IFERROR(INDEX('تغييرات ليوم واحد'!$C$2:$C$201,MATCH(H$4&"|"&$A15,'تغييرات ليوم واحد'!$E$2:$E$201,0)),'المسارات'!$N12),"")) | I15: =IF($A15="","",IF(AND(INDEX('المسارات'!$G12:$M12,1,WEEKDAY(I$4,2))="x",I$4>='المسارات'!$Q12,I$4<='المسارات'!$R12),IFERROR(INDEX('تغييرات ليوم واحد'!$C$2:$C$201,MATCH(I$4&"|"&$A15,'تغييرات ليوم واحد'!$E$2:$E$201,0)),'المسارات'!$N12),"")) | J15: =IF($A15="","",IF(AND(INDEX('المسارات'!$G12:$M12,1,WEEKDAY(J$4,2))="x",J$4>='المسارات'!$Q12,J$4<='المسارات'!$R12),IFERROR(INDEX('تغييرات ليوم واحد'!$C$2:$C$201,MATCH(J$4&"|"&$A15,'تغييرات ليوم واحد'!$E$2:$E$201,0)),'المسارات'!$N12),""))
A16: =IF('المسارات'!A13="","",'المسارات'!A13) | B16: =IF('المسارات'!A13="","",'المسارات'!B13) | C16: =IF('المسارات'!A13="","",'المسارات'!E13) | D16: =IF($A16="","",IF(AND(INDEX('المسارات'!$G13:$M13,1,WEEKDAY(D$4,2))="x",D$4>='المسارات'!$Q13,D$4<='المسارات'!$R13),IFERROR(INDEX('تغييرات ليوم واحد'!$C$2:$C$201,MATCH(D$4&"|"&$A16,'تغييرات ليوم واحد'!$E$2:$E$201,0)),'المسارات'!$N13),"")) | E16: =IF($A16="","",IF(AND(INDEX('المسارات'!$G13:$M13,1,WEEKDAY(E$4,2))="x",E$4>='المسارات'!$Q13,E$4<='المسارات'!$R13),IFERROR(INDEX('تغييرات ليوم واحد'!$C$2:$C$201,MATCH(E$4&"|"&$A16,'تغييرات ليوم واحد'!$E$2:$E$201,0)),'المسارات'!$N13),"")) | F16: =IF($A16="","",IF(AND(INDEX('المسارات'!$G13:$M13,1,WEEKDAY(F$4,2))="x",F$4>='المسارات'!$Q13,F$4<='المسارات'!$R13),IFERROR(INDEX('تغييرات ليوم واحد'!$C$2:$C$201,MATCH(F$4&"|"&$A16,'تغييرات ليوم واحد'!$E$2:$E$201,0)),'المسارات'!$N13),"")) | G16: =IF($A16="","",IF(AND(INDEX('المسارات'!$G13:$M13,1,WEEKDAY(G$4,2))="x",G$4>='المسارات'!$Q13,G$4<='المسارات'!$R13),IFERROR(INDEX('تغييرات ليوم واحد'!$C$2:$C$201,MATCH(G$4&"|"&$A16,'تغييرات ليوم واحد'!$E$2:$E$201,0)),'المسارات'!$N13),"")) | H16: =IF($A16="","",IF(AND(INDEX('المسارات'!$G13:$M13,1,WEEKDAY(H$4,2))="x",H$4>='المسارات'!$Q13,H$4<='المسارات'!$R13),IFERROR(INDEX('تغييرات ليوم واحد'!$C$2:$C$201,MATCH(H$4&"|"&$A16,'تغييرات ليوم واحد'!$E$2:$E$201,0)),'المسارات'!$N13),"")) | I16: =IF($A16="","",IF(AND(INDEX('المسارات'!$G13:$M13,1,WEEKDAY(I$4,2))="x",I$4>='المسارات'!$Q13,I$4<='المسارات'!$R13),IFERROR(INDEX('تغييرات ليوم واحد'!$C$2:$C$201,MATCH(I$4&"|"&$A16,'تغييرات ليوم واحد'!$E$2:$E$201,0)),'المسارات'!$N13),"")) | J16: =IF($A16="","",IF(AND(INDEX('المسارات'!$G13:$M13,1,WEEKDAY(J$4,2))="x",J$4>='المسارات'!$Q13,J$4<='المسارات'!$R13),IFERROR(INDEX('تغييرات ليوم واحد'!$C$2:$C$201,MATCH(J$4&"|"&$A16,'تغييرات ليوم واحد'!$E$2:$E$201,0)),'المسارات'!$N13),""))
... A104: =IF('المسارات'!A101="","",'المسارات'!A101) | B104: =IF('المسارات'!A101="","",'المسارات'!B101) | C104: =IF('المسارات'!A101="","",'المسارات'!E101) | D104: =IF($A104="","",IF(AND(INDEX('المسارات'!$G101:$M101,1,WEEKDAY(D$4,2))="x",D$4>='المسارات'!$Q101,D$4<='المسارات'!$R101),IFERROR(INDEX('تغييرات ليوم واحد'!$C$2:$C$201,MATCH(D$4&"|"&$A104,'تغييرات ليوم واحد'!$E$2:$E$201,0)),'المسارات'!$N101),"")) | E104: =IF($A104="","",IF(AND(INDEX('المسارات'!$G101:$M101,1,WEEKDAY(E$4,2))="x",E$4>='المسارات'!$Q101,E$4<='المسارات'!$R101),IFERROR(INDEX('تغييرات ليوم واحد'!$C$2:$C$201,MATCH(E$4&"|"&$A104,'تغييرات ليوم واحد'!$E$2:$E$201,0)),'المسارات'!$N101),"")) | F104: =IF($A104="","",IF(AND(INDEX('المسارات'!$G101:$M101,1,WEEKDAY(F$4,2))="x",F$4>='المسارات'!$Q101,F$4<='المسارات'!$R101),IFERROR(INDEX('تغييرات ليوم واحد'!$C$2:$C$201,MATCH(F$4&"|"&$A104,'تغييرات ليوم واحد'!$E$2:$E$201,0)),'المسارات'!$N101),"")) | G104: =IF($A104="","",IF(AND(INDEX('المسارات'!$G101:$M101,1,WEEKDAY(G$4,2))="x",G$4>='المسارات'!$Q101,G$4<='المسارات'!$R101),IFERROR(INDEX('تغييرات ليوم واحد'!$C$2:$C$201,MATCH(G$4&"|"&$A104,'تغييرات ليوم واحد'!$E$2:$E$201,0)),'المسارات'!$N101),"")) | H104: =IF($A104="","",IF(AND(INDEX('المسارات'!$G101:$M101,1,WEEKDAY(H$4,2))="x",H$4>='المسارات'!$Q101,H$4<='المسارات'!$R101),IFERROR(INDEX('تغييرات ليوم واحد'!$C$2:$C$201,MATCH(H$4&"|"&$A104,'تغييرات ليوم واحد'!$E$2:$E$201,0)),'المسارات'!$N101),"")) | I104: =IF($A104="","",IF(AND(INDEX('المسارات'!$G101:$M101,1,WEEKDAY(I$4,2))="x",I$4>='المسارات'!$Q101,I$4<='المسارات'!$R101),IFERROR(INDEX('تغييرات ليوم واحد'!$C$2:$C$201,MATCH(I$4&"|"&$A104,'تغييرات ليوم واحد'!$E$2:$E$201,0)),'المسارات'!$N101),"")) | J104: =IF($A104="","",IF(AND(INDEX('المسارات'!$G101:$M101,1,WEEKDAY(J$4,2))="x",J$4>='المسارات'!$Q101,J$4<='المسارات'!$R101),IFERROR(INDEX('تغييرات ليوم واحد'!$C$2:$C$201,MATCH(J$4&"|"&$A104,'تغييرات ليوم واحد'!$E$2:$E$201,0)),'المسارات'!$N101),""))

Sheet المسارات
A1: المسار | B1: العميل | C1: من | D1: إلى | E1: البداية | F1: النهاية | G1: الإثنين | H1: الثلاثاء | I1: الأربعاء | J1: الخميس | K1: الجمعة | L1: السبت | M1: الأحد | N1: السائق المعتاد | O1: المركبة المعتادة | P1: الركاب | Q1: اليوم الأول | R1: اليوم الأخير | S1: التحقق
A2: R01 | B2: مصنع الوادي (مثال) | C2: المحطة المركزية | D2: بوابة مصنع الوادي | E2: 0.29166667 | F2: 0.33333333 | G2: x | H2: x | I2: x | J2: x | K2: x | N2: السائق أ (مثال) | O2: BUS-101 | P2: 14 | Q2: 46266 | R2: 46568 | S2: =IF(OR(A2="",E2="",F2=""),"",IF(AND(N2<>"",SUMPRODUCT(($N$2:$N$101=N2)*($E$2:$E$101<F2)*($F$2:$F$101>E2)*($Q$2:$Q$101<=R2)*($R$2:$R$101>=Q2)*((($G$2:$G$101="x")*(G2="x")+($H$2:$H$101="x")*(H2="x")+($I$2:$I$101="x")*(I2="x")+($J$2:$J$101="x")*(J2="x")+($K$2:$K$101="x")*(K2="x")+($L$2:$L$101="x")*(L2="x")+($M$2:$M$101="x")*(M2="x"))>0))>1),"السائق مشغول",IF(AND(O2<>"",SUMPRODUCT(($O$2:$O$101=O2)*($E$2:$E$101<F2)*($F$2:$F$101>E2)*($Q$2:$Q$101<=R2)*($R$2:$R$101>=Q2)*((($G$2:$G$101="x")*(G2="x")+($H$2:$H$101="x")*(H2="x")+($I$2:$I$101="x")*(I2="x")+($J$2:$J$101="x")*(J2="x")+($K$2:$K$101="x")*(K2="x")+($L$2:$L$101="x")*(L2="x")+($M$2:$M$101="x")*(M2="x"))>0))>1),"المركبة مشغولة","سليم")))
A3: R02 | B3: مصنع الوادي (مثال) | C3: بوابة مصنع الوادي | D3: المحطة المركزية | E3: 0.72916667 | F3: 0.77083333 | G3: x | H3: x | I3: x | J3: x | K3: x | N3: السائق أ (مثال) | O3: BUS-101 | P3: 14 | Q3: 46266 | R3: 46568 | S3: =IF(OR(A3="",E3="",F3=""),"",IF(AND(N3<>"",SUMPRODUCT(($N$2:$N$101=N3)*($E$2:$E$101<F3)*($F$2:$F$101>E3)*($Q$2:$Q$101<=R3)*($R$2:$R$101>=Q3)*((($G$2:$G$101="x")*(G3="x")+($H$2:$H$101="x")*(H3="x")+($I$2:$I$101="x")*(I3="x")+($J$2:$J$101="x")*(J3="x")+($K$2:$K$101="x")*(K3="x")+($L$2:$L$101="x")*(L3="x")+($M$2:$M$101="x")*(M3="x"))>0))>1),"السائق مشغول",IF(AND(O3<>"",SUMPRODUCT(($O$2:$O$101=O3)*($E$2:$E$101<F3)*($F$2:$F$101>E3)*($Q$2:$Q$101<=R3)*($R$2:$R$101>=Q3)*((($G$2:$G$101="x")*(G3="x")+($H$2:$H$101="x")*(H3="x")+($I$2:$I$101="x")*(I3="x")+($J$2:$J$101="x")*(J3="x")+($K$2:$K$101="x")*(K3="x")+($L$2:$L$101="x")*(L3="x")+($M$2:$M$101="x")*(M3="x"))>0))>1),"المركبة مشغولة","سليم")))
A4: R03 | B4: مدرسة التلال (مثال) | C4: الحي الشمالي | D4: مدرسة التلال | E4: 0.3125 | F4: 0.34375 | G4: x | H4: x | I4: x | J4: x | K4: x | N4: السائق أ (مثال) | O4: VAN-202 | P4: 6 | Q4: 46266 | R4: 46583 | S4: =IF(OR(A4="",E4="",F4=""),"",IF(AND(N4<>"",SUMPRODUCT(($N$2:$N$101=N4)*($E$2:$E$101<F4)*($F$2:$F$101>E4)*($Q$2:$Q$101<=R4)*($R$2:$R$101>=Q4)*((($G$2:$G$101="x")*(G4="x")+($H$2:$H$101="x")*(H4="x")+($I$2:$I$101="x")*(I4="x")+($J$2:$J$101="x")*(J4="x")+($K$2:$K$101="x")*(K4="x")+($L$2:$L$101="x")*(L4="x")+($M$2:$M$101="x")*(M4="x"))>0))>1),"السائق مشغول",IF(AND(O4<>"",SUMPRODUCT(($O$2:$O$101=O4)*($E$2:$E$101<F4)*($F$2:$F$101>E4)*($Q$2:$Q$101<=R4)*($R$2:$R$101>=Q4)*((($G$2:$G$101="x")*(G4="x")+($H$2:$H$101="x")*(H4="x")+($I$2:$I$101="x")*(I4="x")+($J$2:$J$101="x")*(J4="x")+($K$2:$K$101="x")*(K4="x")+($L$2:$L$101="x")*(L4="x")+($M$2:$M$101="x")*(M4="x"))>0))>1),"المركبة مشغولة","سليم")))
A5: R04 | B5: نادي كبار السن (مثال) | C5: مبنى البلدية | D5: حديقة البحيرة | E5: 0.375 | F5: 0.5 | L5: x | N5: السائق ب (مثال) | O5: BUS-303 | P5: 25 | Q5: 46296 | R5: 46387 | S5: =IF(OR(A5="",E5="",F5=""),"",IF(AND(N5<>"",SUMPRODUCT(($N$2:$N$101=N5)*($E$2:$E$101<F5)*($F$2:$F$101>E5)*($Q$2:$Q$101<=R5)*($R$2:$R$101>=Q5)*((($G$2:$G$101="x")*(G5="x")+($H$2:$H$101="x")*(H5="x")+($I$2:$I$101="x")*(I5="x")+($J$2:$J$101="x")*(J5="x")+($K$2:$K$101="x")*(K5="x")+($L$2:$L$101="x")*(L5="x")+($M$2:$M$101="x")*(M5="x"))>0))>1),"السائق مشغول",IF(AND(O5<>"",SUMPRODUCT(($O$2:$O$101=O5)*($E$2:$E$101<F5)*($F$2:$F$101>E5)*($Q$2:$Q$101<=R5)*($R$2:$R$101>=Q5)*((($G$2:$G$101="x")*(G5="x")+($H$2:$H$101="x")*(H5="x")+($I$2:$I$101="x")*(I5="x")+($J$2:$J$101="x")*(J5="x")+($K$2:$K$101="x")*(K5="x")+($L$2:$L$101="x")*(L5="x")+($M$2:$M$101="x")*(M5="x"))>0))>1),"المركبة مشغولة","سليم")))
S6: =IF(OR(A6="",E6="",F6=""),"",IF(AND(N6<>"",SUMPRODUCT(($N$2:$N$101=N6)*($E$2:$E$101<F6)*($F$2:$F$101>E6)*($Q$2:$Q$101<=R6)*($R$2:$R$101>=Q6)*((($G$2:$G$101="x")*(G6="x")+($H$2:$H$101="x")*(H6="x")+($I$2:$I$101="x")*(I6="x")+($J$2:$J$101="x")*(J6="x")+($K$2:$K$101="x")*(K6="x")+($L$2:$L$101="x")*(L6="x")+($M$2:$M$101="x")*(M6="x"))>0))>1),"السائق مشغول",IF(AND(O6<>"",SUMPRODUCT(($O$2:$O$101=O6)*($E$2:$E$101<F6)*($F$2:$F$101>E6)*($Q$2:$Q$101<=R6)*($R$2:$R$101>=Q6)*((($G$2:$G$101="x")*(G6="x")+($H$2:$H$101="x")*(H6="x")+($I$2:$I$101="x")*(I6="x")+($J$2:$J$101="x")*(J6="x")+($K$2:$K$101="x")*(K6="x")+($L$2:$L$101="x")*(L6="x")+($M$2:$M$101="x")*(M6="x"))>0))>1),"المركبة مشغولة","سليم")))
S7: =IF(OR(A7="",E7="",F7=""),"",IF(AND(N7<>"",SUMPRODUCT(($N$2:$N$101=N7)*($E$2:$E$101<F7)*($F$2:$F$101>E7)*($Q$2:$Q$101<=R7)*($R$2:$R$101>=Q7)*((($G$2:$G$101="x")*(G7="x")+($H$2:$H$101="x")*(H7="x")+($I$2:$I$101="x")*(I7="x")+($J$2:$J$101="x")*(J7="x")+($K$2:$K$101="x")*(K7="x")+($L$2:$L$101="x")*(L7="x")+($M$2:$M$101="x")*(M7="x"))>0))>1),"السائق مشغول",IF(AND(O7<>"",SUMPRODUCT(($O$2:$O$101=O7)*($E$2:$E$101<F7)*($F$2:$F$101>E7)*($Q$2:$Q$101<=R7)*($R$2:$R$101>=Q7)*((($G$2:$G$101="x")*(G7="x")+($H$2:$H$101="x")*(H7="x")+($I$2:$I$101="x")*(I7="x")+($J$2:$J$101="x")*(J7="x")+($K$2:$K$101="x")*(K7="x")+($L$2:$L$101="x")*(L7="x")+($M$2:$M$101="x")*(M7="x"))>0))>1),"المركبة مشغولة","سليم")))
S8: =IF(OR(A8="",E8="",F8=""),"",IF(AND(N8<>"",SUMPRODUCT(($N$2:$N$101=N8)*($E$2:$E$101<F8)*($F$2:$F$101>E8)*($Q$2:$Q$101<=R8)*($R$2:$R$101>=Q8)*((($G$2:$G$101="x")*(G8="x")+($H$2:$H$101="x")*(H8="x")+($I$2:$I$101="x")*(I8="x")+($J$2:$J$101="x")*(J8="x")+($K$2:$K$101="x")*(K8="x")+($L$2:$L$101="x")*(L8="x")+($M$2:$M$101="x")*(M8="x"))>0))>1),"السائق مشغول",IF(AND(O8<>"",SUMPRODUCT(($O$2:$O$101=O8)*($E$2:$E$101<F8)*($F$2:$F$101>E8)*($Q$2:$Q$101<=R8)*($R$2:$R$101>=Q8)*((($G$2:$G$101="x")*(G8="x")+($H$2:$H$101="x")*(H8="x")+($I$2:$I$101="x")*(I8="x")+($J$2:$J$101="x")*(J8="x")+($K$2:$K$101="x")*(K8="x")+($L$2:$L$101="x")*(L8="x")+($M$2:$M$101="x")*(M8="x"))>0))>1),"المركبة مشغولة","سليم")))
S9: =IF(OR(A9="",E9="",F9=""),"",IF(AND(N9<>"",SUMPRODUCT(($N$2:$N$101=N9)*($E$2:$E$101<F9)*($F$2:$F$101>E9)*($Q$2:$Q$101<=R9)*($R$2:$R$101>=Q9)*((($G$2:$G$101="x")*(G9="x")+($H$2:$H$101="x")*(H9="x")+($I$2:$I$101="x")*(I9="x")+($J$2:$J$101="x")*(J9="x")+($K$2:$K$101="x")*(K9="x")+($L$2:$L$101="x")*(L9="x")+($M$2:$M$101="x")*(M9="x"))>0))>1),"السائق مشغول",IF(AND(O9<>"",SUMPRODUCT(($O$2:$O$101=O9)*($E$2:$E$101<F9)*($F$2:$F$101>E9)*($Q$2:$Q$101<=R9)*($R$2:$R$101>=Q9)*((($G$2:$G$101="x")*(G9="x")+($H$2:$H$101="x")*(H9="x")+($I$2:$I$101="x")*(I9="x")+($J$2:$J$101="x")*(J9="x")+($K$2:$K$101="x")*(K9="x")+($L$2:$L$101="x")*(L9="x")+($M$2:$M$101="x")*(M9="x"))>0))>1),"المركبة مشغولة","سليم")))
S10: =IF(OR(A10="",E10="",F10=""),"",IF(AND(N10<>"",SUMPRODUCT(($N$2:$N$101=N10)*($E$2:$E$101<F10)*($F$2:$F$101>E10)*($Q$2:$Q$101<=R10)*($R$2:$R$101>=Q10)*((($G$2:$G$101="x")*(G10="x")+($H$2:$H$101="x")*(H10="x")+($I$2:$I$101="x")*(I10="x")+($J$2:$J$101="x")*(J10="x")+($K$2:$K$101="x")*(K10="x")+($L$2:$L$101="x")*(L10="x")+($M$2:$M$101="x")*(M10="x"))>0))>1),"السائق مشغول",IF(AND(O10<>"",SUMPRODUCT(($O$2:$O$101=O10)*($E$2:$E$101<F10)*($F$2:$F$101>E10)*($Q$2:$Q$101<=R10)*($R$2:$R$101>=Q10)*((($G$2:$G$101="x")*(G10="x")+($H$2:$H$101="x")*(H10="x")+($I$2:$I$101="x")*(I10="x")+($J$2:$J$101="x")*(J10="x")+($K$2:$K$101="x")*(K10="x")+($L$2:$L$101="x")*(L10="x")+($M$2:$M$101="x")*(M10="x"))>0))>1),"المركبة مشغولة","سليم")))
S11: =IF(OR(A11="",E11="",F11=""),"",IF(AND(N11<>"",SUMPRODUCT(($N$2:$N$101=N11)*($E$2:$E$101<F11)*($F$2:$F$101>E11)*($Q$2:$Q$101<=R11)*($R$2:$R$101>=Q11)*((($G$2:$G$101="x")*(G11="x")+($H$2:$H$101="x")*(H11="x")+($I$2:$I$101="x")*(I11="x")+($J$2:$J$101="x")*(J11="x")+($K$2:$K$101="x")*(K11="x")+($L$2:$L$101="x")*(L11="x")+($M$2:$M$101="x")*(M11="x"))>0))>1),"السائق مشغول",IF(AND(O11<>"",SUMPRODUCT(($O$2:$O$101=O11)*($E$2:$E$101<F11)*($F$2:$F$101>E11)*($Q$2:$Q$101<=R11)*($R$2:$R$101>=Q11)*((($G$2:$G$101="x")*(G11="x")+($H$2:$H$101="x")*(H11="x")+($I$2:$I$101="x")*(I11="x")+($J$2:$J$101="x")*(J11="x")+($K$2:$K$101="x")*(K11="x")+($L$2:$L$101="x")*(L11="x")+($M$2:$M$101="x")*(M11="x"))>0))>1),"المركبة مشغولة","سليم")))
S12: =IF(OR(A12="",E12="",F12=""),"",IF(AND(N12<>"",SUMPRODUCT(($N$2:$N$101=N12)*($E$2:$E$101<F12)*($F$2:$F$101>E12)*($Q$2:$Q$101<=R12)*($R$2:$R$101>=Q12)*((($G$2:$G$101="x")*(G12="x")+($H$2:$H$101="x")*(H12="x")+($I$2:$I$101="x")*(I12="x")+($J$2:$J$101="x")*(J12="x")+($K$2:$K$101="x")*(K12="x")+($L$2:$L$101="x")*(L12="x")+($M$2:$M$101="x")*(M12="x"))>0))>1),"السائق مشغول",IF(AND(O12<>"",SUMPRODUCT(($O$2:$O$101=O12)*($E$2:$E$101<F12)*($F$2:$F$101>E12)*($Q$2:$Q$101<=R12)*($R$2:$R$101>=Q12)*((($G$2:$G$101="x")*(G12="x")+($H$2:$H$101="x")*(H12="x")+($I$2:$I$101="x")*(I12="x")+($J$2:$J$101="x")*(J12="x")+($K$2:$K$101="x")*(K12="x")+($L$2:$L$101="x")*(L12="x")+($M$2:$M$101="x")*(M12="x"))>0))>1),"المركبة مشغولة","سليم")))
S13: =IF(OR(A13="",E13="",F13=""),"",IF(AND(N13<>"",SUMPRODUCT(($N$2:$N$101=N13)*($E$2:$E$101<F13)*($F$2:$F$101>E13)*($Q$2:$Q$101<=R13)*($R$2:$R$101>=Q13)*((($G$2:$G$101="x")*(G13="x")+($H$2:$H$101="x")*(H13="x")+($I$2:$I$101="x")*(I13="x")+($J$2:$J$101="x")*(J13="x")+($K$2:$K$101="x")*(K13="x")+($L$2:$L$101="x")*(L13="x")+($M$2:$M$101="x")*(M13="x"))>0))>1),"السائق مشغول",IF(AND(O13<>"",SUMPRODUCT(($O$2:$O$101=O13)*($E$2:$E$101<F13)*($F$2:$F$101>E13)*($Q$2:$Q$101<=R13)*($R$2:$R$101>=Q13)*((($G$2:$G$101="x")*(G13="x")+($H$2:$H$101="x")*(H13="x")+($I$2:$I$101="x")*(I13="x")+($J$2:$J$101="x")*(J13="x")+($K$2:$K$101="x")*(K13="x")+($L$2:$L$101="x")*(L13="x")+($M$2:$M$101="x")*(M13="x"))>0))>1),"المركبة مشغولة","سليم")))
S14: =IF(OR(A14="",E14="",F14=""),"",IF(AND(N14<>"",SUMPRODUCT(($N$2:$N$101=N14)*($E$2:$E$101<F14)*($F$2:$F$101>E14)*($Q$2:$Q$101<=R14)*($R$2:$R$101>=Q14)*((($G$2:$G$101="x")*(G14="x")+($H$2:$H$101="x")*(H14="x")+($I$2:$I$101="x")*(I14="x")+($J$2:$J$101="x")*(J14="x")+($K$2:$K$101="x")*(K14="x")+($L$2:$L$101="x")*(L14="x")+($M$2:$M$101="x")*(M14="x"))>0))>1),"السائق مشغول",IF(AND(O14<>"",SUMPRODUCT(($O$2:$O$101=O14)*($E$2:$E$101<F14)*($F$2:$F$101>E14)*($Q$2:$Q$101<=R14)*($R$2:$R$101>=Q14)*((($G$2:$G$101="x")*(G14="x")+($H$2:$H$101="x")*(H14="x")+($I$2:$I$101="x")*(I14="x")+($J$2:$J$101="x")*(J14="x")+($K$2:$K$101="x")*(K14="x")+($L$2:$L$101="x")*(L14="x")+($M$2:$M$101="x")*(M14="x"))>0))>1),"المركبة مشغولة","سليم")))
S15: =IF(OR(A15="",E15="",F15=""),"",IF(AND(N15<>"",SUMPRODUCT(($N$2:$N$101=N15)*($E$2:$E$101<F15)*($F$2:$F$101>E15)*($Q$2:$Q$101<=R15)*($R$2:$R$101>=Q15)*((($G$2:$G$101="x")*(G15="x")+($H$2:$H$101="x")*(H15="x")+($I$2:$I$101="x")*(I15="x")+($J$2:$J$101="x")*(J15="x")+($K$2:$K$101="x")*(K15="x")+($L$2:$L$101="x")*(L15="x")+($M$2:$M$101="x")*(M15="x"))>0))>1),"السائق مشغول",IF(AND(O15<>"",SUMPRODUCT(($O$2:$O$101=O15)*($E$2:$E$101<F15)*($F$2:$F$101>E15)*($Q$2:$Q$101<=R15)*($R$2:$R$101>=Q15)*((($G$2:$G$101="x")*(G15="x")+($H$2:$H$101="x")*(H15="x")+($I$2:$I$101="x")*(I15="x")+($J$2:$J$101="x")*(J15="x")+($K$2:$K$101="x")*(K15="x")+($L$2:$L$101="x")*(L15="x")+($M$2:$M$101="x")*(M15="x"))>0))>1),"المركبة مشغولة","سليم")))
S16: =IF(OR(A16="",E16="",F16=""),"",IF(AND(N16<>"",SUMPRODUCT(($N$2:$N$101=N16)*($E$2:$E$101<F16)*($F$2:$F$101>E16)*($Q$2:$Q$101<=R16)*($R$2:$R$101>=Q16)*((($G$2:$G$101="x")*(G16="x")+($H$2:$H$101="x")*(H16="x")+($I$2:$I$101="x")*(I16="x")+($J$2:$J$101="x")*(J16="x")+($K$2:$K$101="x")*(K16="x")+($L$2:$L$101="x")*(L16="x")+($M$2:$M$101="x")*(M16="x"))>0))>1),"السائق مشغول",IF(AND(O16<>"",SUMPRODUCT(($O$2:$O$101=O16)*($E$2:$E$101<F16)*($F$2:$F$101>E16)*($Q$2:$Q$101<=R16)*($R$2:$R$101>=Q16)*((($G$2:$G$101="x")*(G16="x")+($H$2:$H$101="x")*(H16="x")+($I$2:$I$101="x")*(I16="x")+($J$2:$J$101="x")*(J16="x")+($K$2:$K$101="x")*(K16="x")+($L$2:$L$101="x")*(L16="x")+($M$2:$M$101="x")*(M16="x"))>0))>1),"المركبة مشغولة","سليم")))
S17: =IF(OR(A17="",E17="",F17=""),"",IF(AND(N17<>"",SUMPRODUCT(($N$2:$N$101=N17)*($E$2:$E$101<F17)*($F$2:$F$101>E17)*($Q$2:$Q$101<=R17)*($R$2:$R$101>=Q17)*((($G$2:$G$101="x")*(G17="x")+($H$2:$H$101="x")*(H17="x")+($I$2:$I$101="x")*(I17="x")+($J$2:$J$101="x")*(J17="x")+($K$2:$K$101="x")*(K17="x")+($L$2:$L$101="x")*(L17="x")+($M$2:$M$101="x")*(M17="x"))>0))>1),"السائق مشغول",IF(AND(O17<>"",SUMPRODUCT(($O$2:$O$101=O17)*($E$2:$E$101<F17)*($F$2:$F$101>E17)*($Q$2:$Q$101<=R17)*($R$2:$R$101>=Q17)*((($G$2:$G$101="x")*(G17="x")+($H$2:$H$101="x")*(H17="x")+($I$2:$I$101="x")*(I17="x")+($J$2:$J$101="x")*(J17="x")+($K$2:$K$101="x")*(K17="x")+($L$2:$L$101="x")*(L17="x")+($M$2:$M$101="x")*(M17="x"))>0))>1),"المركبة مشغولة","سليم")))
... S101: =IF(OR(A101="",E101="",F101=""),"",IF(AND(N101<>"",SUMPRODUCT(($N$2:$N$101=N101)*($E$2:$E$101<F101)*($F$2:$F$101>E101)*($Q$2:$Q$101<=R101)*($R$2:$R$101>=Q101)*((($G$2:$G$101="x")*(G101="x")+($H$2:$H$101="x")*(H101="x")+($I$2:$I$101="x")*(I101="x")+($J$2:$J$101="x")*(J101="x")+($K$2:$K$101="x")*(K101="x")+($L$2:$L$101="x")*(L101="x")+($M$2:$M$101="x")*(M101="x"))>0))>1),"السائق مشغول",IF(AND(O101<>"",SUMPRODUCT(($O$2:$O$101=O101)*($E$2:$E$101<F101)*($F$2:$F$101>E101)*($Q$2:$Q$101<=R101)*($R$2:$R$101>=Q101)*((($G$2:$G$101="x")*(G101="x")+($H$2:$H$101="x")*(H101="x")+($I$2:$I$101="x")*(I101="x")+($J$2:$J$101="x")*(J101="x")+($K$2:$K$101="x")*(K101="x")+($L$2:$L$101="x")*(L101="x")+($M$2:$M$101="x")*(M101="x"))>0))>1),"المركبة مشغولة","سليم")))

Sheet تغييرات ليوم واحد
A1: التاريخ | B1: المسار | C1: السائق البديل | D1: السبب | E1: المفتاح (لا تعدّله)
A2: 46330 | B2: R01 | C2: السائق ج (مثال) | D2: إجازة | E2: =IF(OR(A2="",B2=""),"",A2&"|"&B2)
E3: =IF(OR(A3="",B3=""),"",A3&"|"&B3)
E4: =IF(OR(A4="",B4=""),"",A4&"|"&B4)
E5: =IF(OR(A5="",B5=""),"",A5&"|"&B5)
E6: =IF(OR(A6="",B6=""),"",A6&"|"&B6)
E7: =IF(OR(A7="",B7=""),"",A7&"|"&B7)
E8: =IF(OR(A8="",B8=""),"",A8&"|"&B8)
E9: =IF(OR(A9="",B9=""),"",A9&"|"&B9)
E10: =IF(OR(A10="",B10=""),"",A10&"|"&B10)
E11: =IF(OR(A11="",B11=""),"",A11&"|"&B11)
E12: =IF(OR(A12="",B12=""),"",A12&"|"&B12)
E13: =IF(OR(A13="",B13=""),"",A13&"|"&B13)
E14: =IF(OR(A14="",B14=""),"",A14&"|"&B14)
... E201: =IF(OR(A201="",B201=""),"",A201&"|"&B201)

Sheet السائقون
A1: السائق | B1: الهاتف | C1: ملاحظات
A2: السائق أ (مثال) | B2: +00 000 000 101
A3: السائق ب (مثال) | B3: +00 000 000 102
A4: السائق ج (مثال) | B4: +00 000 000 103

Sheet المركبات
A1: رقم اللوحة | B1: المركبة | C1: المقاعد
A2: BUS-101 | B2: حافلة صغيرة (مثال) | C2: 16
A3: VAN-202 | B3: فان (مثال) | C3: 8
A4: BUS-303 | B4: حافلة كبيرة (مثال) | C4: 30
